Workbook
Name NOME1: #REF!
Name NOME1: #REF!
Name NOME1: #REF!
Name NOME1: #REF!
Name NOME1: #REF!
Name NOME1: #REF!
Name NOME1: #REF!
Name NOME2: #REF!
Name NOME2: #REF!
Name NOME2: #REF!
Name NOME2: #REF!
Name NOME2: #REF!
Name NOME2: #REF!
Name NOME2: #REF!
Name Print_Area: 'BM 01'!$A$1:$O$72
Name Print_Area: 'BM 01-Fot'!$A$1:$L$55
Name Print_Area: 'BM 02'!$A$1:$N$72
Name Print_Area: 'BM 02-Fot'!$A$1:$L$55
Name Print_Area: FOTOS!$A$1:$L$53
Name Print_Titles: 'BM 01-Fot'!$1:$6
Name Print_Titles: 'BM 02-Fot'!$1:$6
Name Print_Titles: FOTOS!$1:$4
Name sigla_obras: '[1]Base dados - TCU 2622_2013'!$A$7:$A$14
Name sigla_obras: '[1]Base dados - TCU 2622_2013'!$A$7:$A$14
Name sigla_obras: '[1]Base dados - TCU 2622_2013'!$A$7:$A$14
Name sigla_obras: '[1]Base dados - TCU 2622_2013'!$A$7:$A$14
Name sigla_obras: '[1]Base dados - TCU 2622_2013'!$A$7:$A$14
Name sigla_obras: 'BDI-Dados'!$A$7:$A$14
Name sigla_sn: '[1]Base dados - TCU 2622_2013'!$A$2:$A$3
Name sigla_sn: '[1]Base dados - TCU 2622_2013'!$A$2:$A$3
Name sigla_sn: '[1]Base dados - TCU 2622_2013'!$A$2:$A$3
Name sigla_sn: '[1]Base dados - TCU 2622_2013'!$A$2:$A$3
Name sigla_sn: '[1]Base dados - TCU 2622_2013'!$A$2:$A$3
Name sigla_sn: 'BDI-Dados'!$A$2:$A$3

Sheet MEM
A2: MEMÓRIA DE CÁLCULO | L2: =PLAN!H3 -> DATA: 21/09/26
A3: =PLAN!A3 -> OBRA: SERVIÇOS DE INFRAESTRUTURA
A4: =PLAN!A4 -> LOCAL: ÁREAS PÚBLICAS MUNICIPAIS DE SANTA CRUZ DO ESCALVADO (MG)
A5: ITEM | B5: DESCRIÇÃO DOS SERVIÇOS | K5: UNID | L5: TOTAL | M5: =PLAN!I6 -> 842254.45
A6: =PLAN!A8 -> 1 | B6: =PLAN!C8 -> ADMINISTRAÇÃO LOCAL
A7: =PLAN!A9 -> 1.1 | B7: =PLAN!C9 -> ENCARREGADO GERAL DE OBRAS COM ENCARGOS COMPLEMENTARES | E7: cronograma | J7: (3 meses x 4 semanas x 5 dias x 8 horas) / 220 horas | K7: =PLAN!D9 -> MÊS | L7: =ROUND(M7*4*5*N7/220,2) -> 2.18 | M7: 3 | N7: 8 | O7: =PLAN!J11 -> 0.033261374
A8: =PLAN!A10 -> 1.2 | B8: =PLAN!C10 -> TÉCNICO EM SEGURANÇA DO TRABALHO COM ENCARGOS COMPLEMENTARES | E8: cronograma | J8: (3 meses x 4 semanas x 5 dias x 0,1 horas) / 220 horas | K8: =PLAN!D10 -> MÊS | L8: =ROUND(M7*4*5*N8/220,2) -> 0.03 | N8: 0.1
A9: =PLAN!A11 -> 1.3 | B9: =PLAN!C11 -> ENGENHEIRO CIVIL DE OBRA PLENO COM ENCARGOS COMPLEMENTARES | E9: cronograma | J9: (3 meses x 4 semanas x 5 dias x 0,1 horas) / 220 horas | K9: =PLAN!D11 -> MÊS | L9: =ROUND(M7*4*5*N9/220,2) -> 0.03 | N9: 0.1
A10: =PLAN!A12 -> 2 | B10: =PLAN!C12 -> SERVIÇOS PRELIMINARES | K10: =PLAN!D12 -> 0
A11: =PLAN!A13 -> 2.1 | B11: =PLAN!C13 -> FORNECIMENTO E COLOCAÇÃO DE PLACA DE OBRA EM CHAPA GALVANIZADA #26, ESP. 0,45 MM, PLOTADA COM ADESIVO VINÍLICO, AFIXADA C/ REBITES 4,8X40 MM, EM ESTRUTURA METÁLICA DE METALON 20X20 MM, ESP. 1,25 MM, INCL SUPORTE EM EUCALIPTO AUTOCLAVADO PINTADO COM TINTA PVA DUAS (2) DEMÃOS | E11: área | J11: área = 1,00 x 2,00 | K11: =PLAN!D13 -> M2 | L11: =1*2 -> 2
A12: =PLAN!A14 -> 2.2 | B12: =PLAN!C14 -> MOBILIZAÇÃO E DESMOBILIZAÇÃO OBRA DISTANTE DE CENTRO URBANO OU REGIÃO LIMÍTROFE COM VALOR ATÉ 1.000.000,00 | E12: estimativa | J12: global | K12: =PLAN!D14 -> % | L12: 0.5
A13: =PLAN!A15 -> 3 | B13: =PLAN!C15 -> ÁREA 01 - RUA SAGRADOS CORAÇÕES | K13: =PLAN!D15 -> 0
A14: =PLAN!A16 -> 3.1 | B14: =PLAN!C16 -> DEMOLIÇÕES E REMOÇÕES | K14: =PLAN!D16 -> 0
A15: =PLAN!A17 -> 3.1.1 | B15: =PLAN!C17 -> REMOÇÃO DE MEIO FIO PRÉ MOLDADO DE CONCRETO | E15: comprimento existente CAD | J15: =E15 -> comprimento existente CAD | K15: =PLAN!D17 -> M | L15: 46.55
A16: =PLAN!A18 -> 3.1.2 | B16: =PLAN!C18 -> DEMOLIÇÃO MECANIZADA DE CONCRETO, SEM ARMAÇÃO, COM EQUIPAMENTO ELÉTRICO, INCLUSIVE AFASTAMENTO E EMPILHAMENTO, EXCLUSIVE TRANSPORTE E RETIRADA DO MATERIAL DEMOLIDO | E16: volume de concreto a ser demolido | J16: =E16 -> volume de concreto a ser demolido | K16: =PLAN!D18 -> M3 | L16: =ROUND(20*0.15,2) -> 3
A17: =PLAN!A19 -> 3.1.3 | B17: =PLAN!C19 -> TRANSPORTE DE MATERIAL DE QUALQUER NATUREZA COM CARRINHO DE MÃO, COM DISTÂNCIAS MENORES OU IGUAIS A 50M, INCLUSIVE CARGA/DESCARGA | E17: transporte do volume de material demolido | J17: =E17 -> transporte do volume de material demolido | K17: =PLAN!D19 -> M3 | L17: =ROUND((L15*0.3*0.15)+L16,2) -> 5.09
A18: =PLAN!A20 -> 3.1.4 | B18: =PLAN!C20 -> TRANSPORTE DE MATERIAL DE QUALQUER NATUREZA EM CAMINHÃO, DISTÂNCIA MAIOR QUE 1KM E MENOR OU IGUAL A 2KM, DENTRO DO PERÍMETRO URBANO, EXCLUSIVE CARGA, INCLUSIVE DESCARGA | E18: volume de material demolido x distância de transporte 2km | J18: =E18 -> volume de material demolido x distância de transporte 2km | K18: =PLAN!D20 -> M3xKM | L18: =ROUND(L17*2,2) -> 10.18
A19: =PLAN!A21 -> 3.2 | B19: =PLAN!C21 -> EXECUÇÃO DE CANTEIROS | K19: =PLAN!D21 -> 0
A20: =PLAN!A22 -> 3.2.1 | B20: =PLAN!C22 -> ESCAVAÇÃO MANUAL DE VALA COM PROFUNDIDADE MENOR OU IGUAL A 1,5M, INCLUSIVE DESCARGA LATERAL | E20: escavação de vala p/ execução da cinta CAD | J20: =E20 -> escavação de vala p/ execução da cinta CAD | K20: =PLAN!D22 -> M3 | L20: =ROUND(M22*0.2*0.15,2) -> 1.77
A21: =PLAN!A23 -> 3.2.2 | B21: =PLAN!C23 -> CINTA EM CONCRETO ARMADO | K21: =PLAN!D23 -> 0
A22: =PLAN!A24 -> 3.2.2.1 | B22: =PLAN!C24 -> FÔRMA E DESFORMA DE TÁBUA E SARRAFO, REAPROVEITAMENTO (3X), EXCLUSIVE ESCORAMENTO | E22: área de fôrmas da cinta | J22: área = comprimento x altura x 2 lados | K22: =PLAN!D24 -> M2 | L22: =ROUND(M22*N22*2,2) -> 35.4 | M22: =ROUND((3.78+5.6+4.02)*2+0.41*2+(4.07+11.26+3.01+9.12+3.92),2) -> 59 | N22: 0.3
A23: =PLAN!A25 -> 3.2.2.2 | B23: =PLAN!C25 -> CORTE, DOBRA E ARMAÇÃO DE AÇO CA-50/60 | E23: peso de aço = volume de concreto x 30kg/m3 | J23: =E23 -> peso de aço = volume de concreto x 30kg/m3 | K23: =PLAN!D25 -> KG | L23: =ROUND(L24*30,2) -> 79.8
A24: =PLAN!A26 -> 3.2.2.3 | B24: =PLAN!C26 -> FORNECIMENTO CONCRETO ESTRUTURAL, PREPARADO OBRA, COM FCK 25 MPA, INCL LANÇAMENTO, ADENSAMENTO E ACABAMENTO | E24: volume de concreto da cinta | J24: volume = comprimento x altura x largura | K24: =PLAN!D26 -> M3 | L24: =ROUND(M24*N24*O24,2) -> 2.66 | M24: =M22 -> 59 | N24: =N22 -> 0.3 | O24: 0.15
A25: =PLAN!A27 -> 3.2.2.4 | B25: =PLAN!C27 -> GUIA DE CORDÃO BOLEADO, EM CONCRETO COM FCK 20MPA, PRÉ MOLDADA, 10X10CM (ALTURA X LARGURA), INCLUSIVE UMA (1) FIADA DE BLOCO DE CONCRETO, ESP. 9CM, ESCAVAÇÃO, APILOAMENTO E TRANSPORTE COM RETIRADA DO MATERIAL ESCAVADO (EM CAÇAMBA) | E25: comprimento de cinta | J25: =E25 -> comprimento de cinta | K25: =PLAN!D27 -> M | L25: =M25 -> 59 | M25: =M22 -> 59
A26: =PLAN!A28 -> 3.3 | B26: =PLAN!C28 -> PAISAGISMO | K26: =PLAN!D28 -> 0
A27: =PLAN!A29 -> 3.3.1 | B27: =PLAN!C29 -> PLANTIO DE GRAMA ESMERALDA EM PLACAS, INCLUSIVE TERRA VEGETAL E CONSERVAÇÃO POR TRINTA (30) DIAS | E27: áreas de canteiros | J27: =E27 -> áreas de canteiros | K27: =PLAN!D29 -> M2 | L27: =ROUND((M27*N27)+O27,2) -> 74.34 | M27: =M22 -> 59 | N27: 0.4 | O27: 50.74
A28: =PLAN!A30 -> 3.3.2 | B28: =PLAN!C30 -> FORNECIMENTO DE ARBUSTO BELA EMÍLIA COM ALTURA MÍNIMA DE 15CM, EXCLUSIVE PLANTIO | E28: quantidade | J28: quantidade | K28: =PLAN!D30 -> UNID | L28: 10
A29: =PLAN!A31 -> 3.3.3 | B29: =PLAN!C31 -> PLANTIO E PREPARO DE COVAS DE ARBUSTOS ORNAMENTAIS EM GERAL, EXCETO FORNECIMENTO DAS MUDAS | E29: quantidade | J29: quantidade | K29: =PLAN!D31 -> UNID | L29: =L28 -> 10
A30: =PLAN!A32 -> 3.4 | B30: =PLAN!C32 -> DRENAGEM PLUVIAL | K30: =PLAN!D32 -> 0
A31: =PLAN!A33 -> 3.4.1 | B31: =PLAN!C33 -> ESCAVAÇÃO MECÂNICA DE VALAS COM PROFUNDIDADE MENOR OU IGUAL A 1,5M, INCLUSIVE CARGA EM CAMINHÃO, EXCLUSIVE TRANSPORTE E DESCARGA | E31: volume de escavação de valas | J31: volume = comprimento x altura x largura | K31: =PLAN!D33 -> M3 | L31: =ROUND(M31*N31*O31,2) -> 1.08 | M31: 1.12 | N31: 0.8 | O31: 1.2
A32: =PLAN!A34 -> 3.4.2 | B32: =PLAN!C34 -> TRANSPORTE DE MATERIAL DE QUALQUER NATUREZA EM CAMINHÃO, DISTÂNCIA MAIOR QUE 1KM E MENOR OU IGUAL A 2KM, DENTRO DO PERÍMETRO URBANO, EXCLUSIVE CARGA, INCLUSIVE DESCARGA | E32: volume de material x distância de transporte 2km | J32: =E32 -> volume de material x distância de transporte 2km | K32: =PLAN!D34 -> M3xKM | L32: =ROUND(L31*2,2) -> 2.16
A33: =PLAN!A35 -> 3.4.3 | B33: =PLAN!C35 -> APILOAMENTO DO FUNDO DE VALAS COM PLACA VIBRATÓRIA | E33: comprimento x largura = comprimento x 1,2 | J33: área de apiloamento | K33: =PLAN!D35 -> M2 | L33: =ROUND(L34*O31,2) -> 1.34
A34: =PLAN!A36 -> 3.4.4 | B34: =PLAN!C36 -> TUBO DE CONCRETO ARMADO, CLASSE PA1, DIÂMETRO DE 400MM, INCLUSIVE CARGA E DESCARGA MECÂNICA EM CAMINHÃO, ASSENTAMENTO E REJUNTAMENTO, EXCLUSIVE ESCAVAÇÃO E TRANSPORTE | E34: comprimento da tubulação | J34: comprimento | K34: =PLAN!D36 -> M | L34: =M31 -> 1.12
A35: =PLAN!A37 -> 3.4.5 | B35: =PLAN!C37 -> REATERRO COMPACTADO DE VALA COM EQUIPAMENTO PLACA VIBRATÓRIA | E35: TUBO 400mm=(comprimentox0,80x1,2)-(comprimentox3,14x0,4x0,4x0,25) | J35: volume de reaterro | K35: =PLAN!D37 -> M3 | L35: =ROUND(M35*N31*O31-M35*3.14*0.4*0.4*0.25,2) -> 0.93 | M35: =M31 -> 1.12
A36: =PLAN!A38 -> 3.4.6 | B36: =PLAN!C38 -> Boca de Lobo Simples combinada com grelha, quadro e cantoneira pré moldados de concreto BLS 01 areia e brita comerciais (Execução, incluindo escavação, fornecimento, carga e transporte de todos os materiais) (Caderno de Drenagem RT 01.47.d) | E36: quantidade | J36: quantidade | K36: =PLAN!D38 -> UNID | L36: 1
A37: =PLAN!A39 -> 3.5 | B37: =PLAN!C39 -> PAVIMENTAÇÃO | K37: =PLAN!D39 -> 0
A38: =PLAN!A40 -> 3.5.1 | B38: =PLAN!C40 -> GUIA DE MEIO FIO, EM CONCRETO COM FCK 20MPA, PRÉ MOLDADA, MFC 01 PADRÃO DER MG, DIMENSÕES (12X16,7X35)CM, EXCLUSIVE SARJETA, INCLUSIVE ESCAVAÇÃO, APILOAMENTO E TRANSPORTE COM RETIRADA DO MATERIAL ESCAVADO (EM CAÇAMBA) | E38: comprimento CAD | J38: =E38 -> comprimento CAD | K38: =PLAN!D40 -> M | L38: 46.55
A39: =PLAN!A41 -> 3.5.2 | B39: =PLAN!C41 -> EXECUÇÃO DE PAVIMENTO COM PISO INTERTRAVADO, TIPO RETANGULAR, ESP. 6CM, COM FCK DE 35MPA, INCLUSIVE COLCHÃO DE AREIA, ESP. 6CM, PARA ASSENTAMENTO, COMPACTAÇÃO MECANIZADA, CARGA E DESCARGA MECÂNICA EM CAMINHÃO, EXCLUSIVE TRANSPORTE DE PISO INTERTRAVADO | E39: área CAD | J39: área CAD (passeio público) | K39: =PLAN!D41 -> M2 | L39: 33.8
A40: =PLAN!A42 -> 3.5.3 | B40: =PLAN!C42 -> EXECUÇÃO DE PAVIMENTO COM PISO INTERTRAVADO, TIPO RETANGULAR, ESP. 10CM, COM FCK DE 35MPA, INCLUSIVE COLCHÃO DE AREIA, ESP. 6CM, PARA ASSENTAMENTO, COMPACTAÇÃO MECANIZADA, CARGA E DESCARGA MECÂNICA EM CAMINHÃO, EXCLUSIVE TRANSPORTE DE PISO INTERTRAVADO | E40: área CAD | J40: área CAD (áreas interna + prolongamento da via pública) | K40: =PLAN!D42 -> M2 | L40: =383.24+L39 -> 417.04
A41: =PLAN!A43 -> 3.6 | B41: =PLAN!C43 -> GUARDA CORPO FIXADO EM CINTA DE CONCRETO ARMADO | K41: =PLAN!D43 -> 0
...

Sheet PLAN
A2: PLANILHA ORÇAMENTÁRIA DE CUSTOS | H2: FOLHA Nº: 01
A3: OBRA: SERVIÇOS DE INFRAESTRUTURA | H3: DATA: 21/09/26
A4: LOCAL: ÁREAS PÚBLICAS MUNICIPAIS DE SANTA CRUZ DO ESCALVADO (MG) | E4: COORDENADAS: (área 01) | G4: FORMA DE EXECUÇÃO:
A5: MÊS DE REFERÊNCIA: SETOP LESTE-04/26 DES /// SINAPI-08/26 DES | E5: LAT >>> -20.234981° | G5: ( X ) | H5: INDIRETA
A6: PRAZO EXECUÇÃO: | C6: 3 (três) meses | E6: LON >>> -42.814150° | G6: BDI | H6: 0.2647 | I6: =H84 -> 842254.45
A7: ITEM | B7: CÓDIGO | C7: DESCRIÇÃO DOS SERVIÇOS | D7: UNID | E7: QUANTID | F7: PRÇO UN S/ BDI | G7: PRÇO UN C/ BDI | H7: VALOR TOTAL
A8: 1 | C8: ADMINISTRAÇÃO LOCAL
A9: 1.1 | B9: ED-21776 | C9: ENCARREGADO GERAL DE OBRAS COM ENCARGOS COMPLEMENTARES | D9: MÊS | E9: =MEM!L7 -> 2.18 | F9: 9720.1 | G9: =ROUND(F9*($H$6+1),2) -> 12293.01 | H9: =ROUND(E9*G9,2) -> 26798.76
A10: 1.2 | B10: ED-21777 | C10: TÉCNICO EM SEGURANÇA DO TRABALHO COM ENCARGOS COMPLEMENTARES | D10: MÊS | E10: =MEM!L8 -> 0.03 | F10: 8249.54 | G10: =ROUND(F10*($H$6+1),2) -> 10433.19 | H10: =ROUND(E10*G10,2) -> 313
A11: 1.3 | B11: ED-21770 | C11: ENGENHEIRO CIVIL DE OBRA PLENO COM ENCARGOS COMPLEMENTARES | D11: MÊS | E11: =MEM!L9 -> 0.03 | F11: 23794.19 | G11: =ROUND(F11*($H$6+1),2) -> 30092.51 | H11: =ROUND(E11*G11,2) -> 902.78 | I11: =ROUND(SUM(H9:H11),2) -> 28014.54 | J11: =I11/H84 -> 0.033261374 | K11: limite entre 3,49 a 8,87
A12: 2 | C12: SERVIÇOS PRELIMINARES | E12: =MEM!L10 -> 0
A13: 2.1 | B13: ED-16660 | C13: FORNECIMENTO E COLOCAÇÃO DE PLACA DE OBRA EM CHAPA GALVANIZADA #26, ESP. 0,45 MM, PLOTADA COM ADESIVO VINÍLICO, AFIXADA C/ REBITES 4,8X40 MM, EM ESTRUTURA METÁLICA DE METALON 20X20 MM, ESP. 1,25 MM, INCL SUPORTE EM EUCALIPTO AUTOCLAVADO PINTADO COM TINTA PVA DUAS (2) DEMÃOS | D13: M2 | E13: =MEM!L11 -> 2 | F13: 261.86 | G13: =ROUND(F13*($H$6+1),2) -> 331.17 | H13: =ROUND(E13*G13,2) -> 662.34 | J13: =ROUND(K14*J14/100,2) -> 4190.32 | K13: =H14-J13 -> 0.0007
A14: 2.2 | B14: ED-50392 | C14: MOBILIZAÇÃO E DESMOBILIZAÇÃO OBRA DISTANTE DE CENTRO URBANO OU REGIÃO LIMÍTROFE COM VALOR ATÉ 1.000.000,00 | D14: % | E14: =MEM!L12 -> 0.5 | F14: =ROUND(G14/1.2647,2) -> 662658.44 | G14: =J14 -> 838064.13 | H14: =ROUND(E14*G14,2)/100 -> 4190.3207 | I14: =ROUND(SUM(H13:H14),2) -> 4852.66 | J14: 838064.13 | K14: =E14 -> 0.5
A15: 3 | C15: ÁREA 01 - RUA SAGRADOS CORAÇÕES | E15: =MEM!L13 -> 0 | G15: =ROUND(F15*($H$6+1),2) -> 0 | H15: =ROUND(E15*G15,2) -> 0
A16: 3.1 | C16: DEMOLIÇÕES E REMOÇÕES | E16: =MEM!L14 -> 0 | G16: =ROUND(F16*($H$6+1),2) -> 0 | H16: =ROUND(E16*G16,2) -> 0
A17: 3.1.1 | B17: ED-51142 | C17: REMOÇÃO DE MEIO FIO PRÉ MOLDADO DE CONCRETO | D17: M | E17: =MEM!L15 -> 46.55 | F17: 45.36 | G17: =ROUND(F17*($H$6+1),2) -> 57.37 | H17: =ROUND(E17*G17,2) -> 2670.57
A18: 3.1.2 | B18: ED-48442 | C18: DEMOLIÇÃO MECANIZADA DE CONCRETO, SEM ARMAÇÃO, COM EQUIPAMENTO ELÉTRICO, INCLUSIVE AFASTAMENTO E EMPILHAMENTO, EXCLUSIVE TRANSPORTE E RETIRADA DO MATERIAL DEMOLIDO | D18: M3 | E18: =MEM!L16 -> 3 | F18: 175.88 | G18: =ROUND(F18*($H$6+1),2) -> 222.44 | H18: =ROUND(E18*G18,2) -> 667.32
A19: 3.1.3 | B19: ED-51133 | C19: TRANSPORTE DE MATERIAL DE QUALQUER NATUREZA COM CARRINHO DE MÃO, COM DISTÂNCIAS MENORES OU IGUAIS A 50M, INCLUSIVE CARGA/DESCARGA | D19: M3 | E19: =MEM!L17 -> 5.09 | F19: 27.9 | G19: =ROUND(F19*($H$6+1),2) -> 35.29 | H19: =ROUND(E19*G19,2) -> 179.63
A20: 3.1.4 | B20: ED-29230 | C20: TRANSPORTE DE MATERIAL DE QUALQUER NATUREZA EM CAMINHÃO, DISTÂNCIA MAIOR QUE 1KM E MENOR OU IGUAL A 2KM, DENTRO DO PERÍMETRO URBANO, EXCLUSIVE CARGA, INCLUSIVE DESCARGA | D20: M3xKM | E20: =MEM!L18 -> 10.18 | F20: 4.15 | G20: =ROUND(F20*($H$6+1),2) -> 5.25 | H20: =ROUND(E20*G20,2) -> 53.45 | I20: =ROUND(SUM(H17:H20),2) -> 3570.97
A21: 3.2 | C21: EXECUÇÃO DE CANTEIROS | E21: =MEM!L19 -> 0 | G21: =ROUND(F21*($H$6+1),2) -> 0 | H21: =ROUND(E21*G21,2) -> 0
A22: 3.2.1 | B22: ED-51107 | C22: ESCAVAÇÃO MANUAL DE VALA COM PROFUNDIDADE MENOR OU IGUAL A 1,5M, INCLUSIVE DESCARGA LATERAL | D22: M3 | E22: =MEM!L20 -> 1.77 | F22: 80.46 | G22: =ROUND(F22*($H$6+1),2) -> 101.76 | H22: =ROUND(E22*G22,2) -> 180.12
A23: 3.2.2 | C23: CINTA EM CONCRETO ARMADO | E23: =MEM!L21 -> 0 | G23: =ROUND(F23*($H$6+1),2) -> 0 | H23: =ROUND(E23*G23,2) -> 0
A24: 3.2.2.1 | B24: ED-49643 | C24: FÔRMA E DESFORMA DE TÁBUA E SARRAFO, REAPROVEITAMENTO (3X), EXCLUSIVE ESCORAMENTO | D24: M2 | E24: =MEM!L22 -> 35.4 | F24: 78.15 | G24: =ROUND(F24*($H$6+1),2) -> 98.84 | H24: =ROUND(E24*G24,2) -> 3498.94
A25: 3.2.2.2 | B25: ED-48298 | C25: CORTE, DOBRA E ARMAÇÃO DE AÇO CA-50/60 | D25: KG | E25: =MEM!L23 -> 79.8 | F25: 13.38 | G25: =ROUND(F25*($H$6+1),2) -> 16.92 | H25: =ROUND(E25*G25,2) -> 1350.22
A26: 3.2.2.3 | B26: ED-49630 | C26: FORNECIMENTO CONCRETO ESTRUTURAL, PREPARADO OBRA, COM FCK 25 MPA, INCL LANÇAMENTO, ADENSAMENTO E ACABAMENTO | D26: M3 | E26: =MEM!L24 -> 2.66 | F26: 647.83 | G26: =ROUND(F26*($H$6+1),2) -> 819.31 | H26: =ROUND(E26*G26,2) -> 2179.36
A27: 3.2.2.4 | B27: ED-51135 | C27: GUIA DE CORDÃO BOLEADO, EM CONCRETO COM FCK 20MPA, PRÉ MOLDADA, 10X10CM (ALTURA X LARGURA), INCLUSIVE UMA (1) FIADA DE BLOCO DE CONCRETO, ESP. 9CM, ESCAVAÇÃO, APILOAMENTO E TRANSPORTE COM RETIRADA DO MATERIAL ESCAVADO (EM CAÇAMBA) | D27: M | E27: =MEM!L25 -> 59 | F27: 62.08 | G27: =ROUND(F27*($H$6+1),2) -> 78.51 | H27: =ROUND(E27*G27,2) -> 4632.09 | I27: =ROUND(SUM(H22:H27),2) -> 11840.73
A28: 3.3 | C28: PAISAGISMO | E28: =MEM!L26 -> 0
A29: 3.3.1 | B29: ED-50437 | C29: PLANTIO DE GRAMA ESMERALDA EM PLACAS, INCLUSIVE TERRA VEGETAL E CONSERVAÇÃO POR TRINTA (30) DIAS | D29: M2 | E29: =MEM!L27 -> 74.34 | F29: 38.43 | G29: =ROUND(F29*($H$6+1),2) -> 48.6 | H29: =ROUND(E29*G29,2) -> 3612.92
A30: 3.3.2 | B30: ED-50446 | C30: FORNECIMENTO DE ARBUSTO BELA EMÍLIA COM ALTURA MÍNIMA DE 15CM, EXCLUSIVE PLANTIO | D30: UNID | E30: =MEM!L28 -> 10 | F30: 6.75 | G30: =ROUND(F30*($H$6+1),2) -> 8.54 | H30: =ROUND(E30*G30,2) -> 85.4
A31: 3.3.3 | B31: ED-50433 | C31: PLANTIO E PREPARO DE COVAS DE ARBUSTOS ORNAMENTAIS EM GERAL, EXCETO FORNECIMENTO DAS MUDAS | D31: UNID | E31: =MEM!L29 -> 10 | F31: 12.76 | G31: =ROUND(F31*($H$6+1),2) -> 16.14 | H31: =ROUND(E31*G31,2) -> 161.4 | I31: =ROUND(SUM(H29:H31),2) -> 3859.72
A32: 3.4 | C32: DRENAGEM PLUVIAL | E32: =MEM!L30 -> 0 | G32: =ROUND(F32*($H$6+1),2) -> 0 | H32: =ROUND(E32*G32,2) -> 0
A33: 3.4.1 | B33: ED-51115 | C33: ESCAVAÇÃO MECÂNICA DE VALAS COM PROFUNDIDADE MENOR OU IGUAL A 1,5M, INCLUSIVE CARGA EM CAMINHÃO, EXCLUSIVE TRANSPORTE E DESCARGA | D33: M3 | E33: =MEM!L31 -> 1.08 | F33: 11.48 | G33: =ROUND(F33*($H$6+1),2) -> 14.52 | H33: =ROUND(E33*G33,2) -> 15.68
A34: 3.4.2 | B34: ED-29230 | C34: TRANSPORTE DE MATERIAL DE QUALQUER NATUREZA EM CAMINHÃO, DISTÂNCIA MAIOR QUE 1KM E MENOR OU IGUAL A 2KM, DENTRO DO PERÍMETRO URBANO, EXCLUSIVE CARGA, INCLUSIVE DESCARGA | D34: M3xKM | E34: =MEM!L32 -> 2.16 | F34: 4.15 | G34: =ROUND(F34*($H$6+1),2) -> 5.25 | H34: =ROUND(E34*G34,2) -> 11.34
A35: 3.4.3 | B35: ED-51094 | C35: APILOAMENTO DO FUNDO DE VALAS COM PLACA VIBRATÓRIA | D35: M2 | E35: =MEM!L33 -> 1.34 | F35: 15.26 | G35: =ROUND(F35*($H$6+1),2) -> 19.3 | H35: =ROUND(E35*G35,2) -> 25.86
A36: 3.4.4 | B36: ED-9207 | C36: TUBO DE CONCRETO ARMADO, CLASSE PA1, DIÂMETRO DE 400MM, INCLUSIVE CARGA E DESCARGA MECÂNICA EM CAMINHÃO, ASSENTAMENTO E REJUNTAMENTO, EXCLUSIVE ESCAVAÇÃO E TRANSPORTE | D36: M | E36: =MEM!L34 -> 1.12 | F36: 198.98 | G36: =ROUND(F36*($H$6+1),2) -> 251.65 | H36: =ROUND(E36*G36,2) -> 281.85
A37: 3.4.5 | B37: ED-51121 | C37: REATERRO COMPACTADO DE VALA COM EQUIPAMENTO PLACA VIBRATÓRIA | D37: M3 | E37: =MEM!L35 -> 0.93 | F37: 50.57 | G37: =ROUND(F37*($H$6+1),2) -> 63.96 | H37: =ROUND(E37*G37,2) -> 59.48
A38: 3.4.6 | B38: RO-18175 | C38: Boca de Lobo Simples combinada com grelha, quadro e cantoneira pré moldados de concreto BLS 01 areia e brita comerciais (Execução, incluindo escavação, fornecimento, carga e transporte de todos os materiais) (Caderno de Drenagem RT 01.47.d) | D38: UNID | E38: =MEM!L36 -> 1 | F38: 1309.13 | G38: =ROUND(F38*($H$6+1),2) -> 1655.66 | H38: =ROUND(E38*G38,2) -> 1655.66 | I38: =ROUND(SUM(H33:H38),2) -> 2049.87
A39: 3.5 | C39: PAVIMENTAÇÃO | E39: =MEM!L37 -> 0 | G39: =ROUND(F39*($H$6+1),2) -> 0 | H39: =ROUND(E39*G39,2) -> 0
A40: 3.5.1 | B40: ED-51139 | C40: GUIA DE MEIO FIO, EM CONCRETO COM FCK 20MPA, PRÉ MOLDADA, MFC 01 PADRÃO DER MG, DIMENSÕES (12X16,7X35)CM, EXCLUSIVE SARJETA, INCLUSIVE ESCAVAÇÃO, APILOAMENTO E TRANSPORTE COM RETIRADA DO MATERIAL ESCAVADO (EM CAÇAMBA) | D40: M | E40: =MEM!L38 -> 46.55 | F40: 79.13 | G40: =ROUND(F40*($H$6+1),2) -> 100.08 | H40: =ROUND(E40*G40,2) -> 4658.72
A41: 3.5.2 | B41: ED-8915 | C41: EXECUÇÃO DE PAVIMENTO COM PISO INTERTRAVADO, TIPO RETANGULAR, ESP. 6CM, COM FCK DE 35MPA, INCLUSIVE COLCHÃO DE AREIA, ESP. 6CM, PARA ASSENTAMENTO, COMPACTAÇÃO MECANIZADA, CARGA E DESCARGA MECÂNICA EM CAMINHÃO, EXCLUSIVE TRANSPORTE DE PISO INTERTRAVADO | D41: M2 | E41: =MEM!L39 -> 33.8 | F41: 90.85 | G41: =ROUND(F41*($H$6+1),2) -> 114.9 | H41: =ROUND(E41*G41,2) -> 3883.62
...

Sheet CRON1
F1: =F55 -> 0.025 | G1: =G55 -> 0.4629 | H1: =H55 -> 0.5121 | I1: =I55 -> 0 | J1: =J55 -> 0 | K1: =K55 -> 0
A3: CRONOGRAMA FÍSICO-FINANCEIRO
A4: PREFEITURA MUNICIPAL DE SANTA CRUZ DO ESCALVADO | D4: VALOR DA OBRA: | E4: =PLAN!H84 -> 842254.45 | I4: =PLAN!H3 -> DATA: 21/09/26
A5: =PLAN!A3 -> OBRA: SERVIÇOS DE INFRAESTRUTURA | D5: =PLAN!A4 -> LOCAL: ÁREAS PÚBLICAS MUNICIPAIS DE SANTA CRUZ DO ESCALVADO (MG) | I5: =PLAN!A6 -> PRAZO EXECUÇÃO: | J5: =PLAN!C6 -> 3 (três) meses
A6: ITEM | B6: ETAPAS/DESCRIÇÃO | D6: FÍSICO/ FINANCEIRO | E6: TOTAL ETAPAS | F6: MÊS 1 | G6: MÊS 2 | H6: MÊS 3 | I6: MÊS 4 | J6: MÊS 5 | K6: MÊS 6
A7: =PLAN!A8 -> 1 | B7: =PLAN!C8 -> ADMINISTRAÇÃO LOCAL | D7: Físico % | E7: =ROUND((E8/$E$56),4) -> 0.0333 | F7: 0.025 | G7: 0.4629 | H7: 0.5121 | L7: =SUM(F7:K7) -> 1
D8: Financeiro | E8: =PLAN!I11 -> 28014.54 | F8: =ROUND(F7*E8,2) -> 700.36 | G8: =ROUND(G7*E8,2) -> 12967.93 | H8: =ROUND(H7*E8,2) -> 14346.25 | I8: =ROUND(I7*E8,2) -> 0 | J8: =ROUND(J7*E8,2) -> 0 | K8: =ROUND(K7*E8,2) -> 0 | L8: =SUM(F8:K8) -> 28014.54 | M8: =L8-E8 -> 0
A9: =PLAN!A12 -> 2 | B9: =PLAN!C12 -> SERVIÇOS PRELIMINARES | D9: Físico % | E9: =ROUND((E10/$E$56),4) -> 0.0058 | F9: 0.6 | H9: 0.4 | L9: =SUM(F9:K9) -> 1
D10: Financeiro | E10: =PLAN!I14 -> 4852.66 | F10: =ROUND(F9*E10,2) -> 2911.6 | G10: =ROUND(G9*E10,2) -> 0 | H10: =ROUND(H9*E10,2) -> 1941.06 | I10: =ROUND(I9*E10,2) -> 0 | J10: =ROUND(J9*E10,2) -> 0 | K10: =ROUND(K9*E10,2) -> 0 | L10: =SUM(F10:K10) -> 4852.66 | M10: =L10-E10 -> 0
A11: =PLAN!A15 -> 3 | B11: =PLAN!C15 -> ÁREA 01 - RUA SAGRADOS CORAÇÕES | D11: Físico % | E11: =ROUND((E12/$E$56),4) -> 0 | L11: =SUM(F11:K11) -> 0
D12: Financeiro | F12: =ROUND(F11*E12,2) -> 0 | G12: =ROUND(G11*E12,2) -> 0 | H12: =ROUND(H11*E12,2) -> 0 | I12: =ROUND(I11*E12,2) -> 0 | J12: =ROUND(J11*E12,2) -> 0 | K12: =ROUND(K11*E12,2) -> 0 | L12: =SUM(F12:K12) -> 0 | M12: =L12-E12 -> 0
A13: =PLAN!A16 -> 3.1 | B13: =PLAN!C16 -> DEMOLIÇÕES E REMOÇÕES | D13: Físico % | E13: =ROUND((E14/$E$56),4) -> 0.0042 | F13: 1 | L13: =SUM(F13:K13) -> 1
D14: Financeiro | E14: =PLAN!I20 -> 3570.97 | F14: =ROUND(F13*E14,2) -> 3570.97 | G14: =ROUND(G13*E14,2) -> 0 | H14: =ROUND(H13*E14,2) -> 0 | I14: =ROUND(I13*E14,2) -> 0 | J14: =ROUND(J13*E14,2) -> 0 | K14: =ROUND(K13*E14,2) -> 0 | L14: =SUM(F14:K14) -> 3570.97 | M14: =L14-E14 -> 0
A15: =PLAN!A21 -> 3.2 | B15: =PLAN!C21 -> EXECUÇÃO DE CANTEIROS | D15: Físico % | E15: =ROUND((E16/$E$56),4) -> 0.0141 | F15: 1 | L15: =SUM(F15:K15) -> 1
D16: Financeiro | E16: =PLAN!I27 -> 11840.73 | F16: =ROUND(F15*E16,2) -> 11840.73 | G16: =ROUND(G15*E16,2) -> 0 | H16: =ROUND(H15*E16,2) -> 0 | I16: =ROUND(I15*E16,2) -> 0 | J16: =ROUND(J15*E16,2) -> 0 | K16: =ROUND(K15*E16,2) -> 0 | L16: =SUM(F16:K16) -> 11840.73 | M16: =L16-E16 -> 0
A17: =PLAN!A28 -> 3.3 | B17: =PLAN!C28 -> PAISAGISMO | D17: Físico % | E17: =ROUND((E18/$E$56),4) -> 0.0046 | G17: 1 | L17: =SUM(F17:K17) -> 1
D18: Financeiro | E18: =PLAN!I31 -> 3859.72 | F18: =ROUND(F17*E18,2) -> 0 | G18: =ROUND(G17*E18,2) -> 3859.72 | H18: =ROUND(H17*E18,2) -> 0 | I18: =ROUND(I17*E18,2) -> 0 | J18: =ROUND(J17*E18,2) -> 0 | K18: =ROUND(K17*E18,2) -> 0 | L18: =SUM(F18:K18) -> 3859.72 | M18: =L18-E18 -> 0
A19: =PLAN!A32 -> 3.4 | B19: =PLAN!C32 -> DRENAGEM PLUVIAL | D19: Físico % | E19: =ROUND((E20/$E$56),4) -> 0.0024 | F19: 1 | L19: =SUM(F19:K19) -> 1
D20: Financeiro | E20: =PLAN!I38 -> 2049.87 | F20: =ROUND(F19*E20,2) -> 2049.87 | G20: =ROUND(G19*E20,2) -> 0 | H20: =ROUND(H19*E20,2) -> 0 | I20: =ROUND(I19*E20,2) -> 0 | J20: =ROUND(J19*E20,2) -> 0 | K20: =ROUND(K19*E20,2) -> 0 | L20: =SUM(F20:K20) -> 2049.87 | M20: =L20-E20 -> 0
A21: =PLAN!A39 -> 3.5 | B21: =PLAN!C39 -> PAVIMENTAÇÃO | D21: Físico % | E21: =ROUND((E22/$E$56),4) -> 0.094 | G21: 1 | L21: =SUM(F21:K21) -> 1
D22: Financeiro | E22: =PLAN!I42 -> 79180.58 | F22: =ROUND(F21*E22,2) -> 0 | G22: =ROUND(G21*E22,2) -> 79180.58 | H22: =ROUND(H21*E22,2) -> 0 | I22: =ROUND(I21*E22,2) -> 0 | J22: =ROUND(J21*E22,2) -> 0 | K22: =ROUND(K21*E22,2) -> 0 | L22: =SUM(F22:K22) -> 79180.58 | M22: =L22-E22 -> 0
A23: =PLAN!A43 -> 3.6 | B23: =PLAN!C43 -> GUARDA CORPO FIXADO EM CINTA DE CONCRETO ARMADO | D23: Físico % | E23: =ROUND((E24/$E$56),4) -> 0.0408 | G23: 1 | L23: =SUM(F23:K23) -> 1
D24: Financeiro | E24: =PLAN!I47 -> 34353.07 | F24: =ROUND(F23*E24,2) -> 0 | G24: =ROUND(G23*E24,2) -> 34353.07 | H24: =ROUND(H23*E24,2) -> 0 | I24: =ROUND(I23*E24,2) -> 0 | J24: =ROUND(J23*E24,2) -> 0 | K24: =ROUND(K23*E24,2) -> 0 | L24: =SUM(F24:K24) -> 34353.07 | M24: =L24-E24 -> 0
A25: =PLAN!A48 -> 4 | B25: =PLAN!C48 -> ÁREA 02 - RUA OTÁVIO SOARES | D25: Físico % | E25: =ROUND((E26/$E$56),4) -> 0 | L25: =SUM(F25:K25) -> 0
D26: Financeiro | F26: =ROUND(F25*E26,2) -> 0 | G26: =ROUND(G25*E26,2) -> 0 | H26: =ROUND(H25*E26,2) -> 0 | I26: =ROUND(I25*E26,2) -> 0 | J26: =ROUND(J25*E26,2) -> 0 | K26: =ROUND(K25*E26,2) -> 0 | L26: =SUM(F26:K26) -> 0 | M26: =L26-E26 -> 0
A27: =PLAN!A49 -> 4.1 | B27: =PLAN!C49 -> DEMOLIÇÕES E REMOÇÕES | D27: Físico % | E27: =ROUND((E28/$E$56),4) -> 0.0026 | G27: 1 | L27: =SUM(F27:K27) -> 1
D28: Financeiro | E28: =PLAN!I53 -> 2216.75 | F28: =ROUND(F27*E28,2) -> 0 | G28: =ROUND(G27*E28,2) -> 2216.75 | H28: =ROUND(H27*E28,2) -> 0 | I28: =ROUND(I27*E28,2) -> 0 | J28: =ROUND(J27*E28,2) -> 0 | K28: =ROUND(K27*E28,2) -> 0 | L28: =SUM(F28:K28) -> 2216.75 | M28: =L28-E28 -> 0
A29: =PLAN!A54 -> 4.2 | B29: =PLAN!C54 -> PAVIMENTAÇÃO | D29: Físico % | E29: =ROUND((E30/$E$56),4) -> 0.606 | G29: 0.3 | H29: 0.7 | L29: =SUM(F29:K29) -> 1
D30: Financeiro | E30: =PLAN!I65 -> 510431.92 | F30: =ROUND(F29*E30,2) -> 0 | G30: =ROUND(G29*E30,2) -> 153129.58 | H30: =ROUND(H29*E30,2) -> 357302.34 | I30: =ROUND(I29*E30,2) -> 0 | J30: =ROUND(J29*E30,2) -> 0 | K30: =ROUND(K29*E30,2) -> 0 | L30: =SUM(F30:K30) -> 510431.92 | M30: =L30-E30 -> 0
A31: =PLAN!A66 -> 4.3 | B31: =PLAN!C66 -> PAISAGISMO | D31: Físico % | E31: =ROUND((E32/$E$56),4) -> 0.0155 | H31: 1 | L31: =SUM(F31:K31) -> 1
D32: Financeiro | E32: =PLAN!I69 -> 13086.74 | F32: =ROUND(F31*E32,2) -> 0 | G32: =ROUND(G31*E32,2) -> 0 | H32: =ROUND(H31*E32,2) -> 13086.74 | I32: =ROUND(I31*E32,2) -> 0 | J32: =ROUND(J31*E32,2) -> 0 | K32: =ROUND(K31*E32,2) -> 0 | L32: =SUM(F32:K32) -> 13086.74 | M32: =L32-E32 -> 0
A33: =PLAN!A70 -> 4.4 | B33: =PLAN!C70 -> DRENAGEM PLUVIAL | D33: Físico % | E33: =ROUND((E34/$E$56),4) -> 0.1767 | G33: 0.7 | H33: 0.3 | L33: =SUM(F33:K33) -> 1
D34: Financeiro | E34: =PLAN!I83 -> 148796.9 | F34: =ROUND(F33*E34,2) -> 0 | G34: =ROUND(G33*E34,2) -> 104157.83 | H34: =ROUND(H33*E34,2) -> 44639.07 | I34: =ROUND(I33*E34,2) -> 0 | J34: =ROUND(J33*E34,2) -> 0 | K34: =ROUND(K33*E34,2) -> 0 | L34: =SUM(F34:K34) -> 148796.9 | M34: =L34-E34 -> 0
D35: Físico % | E35: =ROUND((E36/$E$56),4) -> 0 | L35: =SUM(F35:K35) -> 0
D36: Financeiro | F36: =ROUND(F35*E36,2) -> 0 | G36: =ROUND(G35*E36,2) -> 0 | H36: =ROUND(H35*E36,2) -> 0 | I36: =ROUND(I35*E36,2) -> 0 | J36: =ROUND(J35*E36,2) -> 0 | K36: =ROUND(K35*E36,2) -> 0 | L36: =SUM(F36:K36) -> 0 | M36: =L36-E36 -> 0
D37: Físico % | E37: =ROUND((E38/$E$56),4) -> 0 | L37: =SUM(F37:K37) -> 0
D38: Financeiro | F38: =ROUND(F37*E38,2) -> 0 | G38: =ROUND(G37*E38,2) -> 0 | H38: =ROUND(H37*E38,2) -> 0 | I38: =ROUND(I37*E38,2) -> 0 | J38: =ROUND(J37*E38,2) -> 0 | K38: =ROUND(K37*E38,2) -> 0 | L38: =SUM(F38:K38) -> 0 | M38: =L38-E38 -> 0
D39: Físico % | E39: =ROUND((E40/$E$56),4) -> 0 | L39: =SUM(F39:K39) -> 0
D40: Financeiro | F40: =ROUND(F39*E40,2) -> 0 | G40: =ROUND(G39*E40,2) -> 0 | H40: =ROUND(H39*E40,2) -> 0 | I40: =ROUND(I39*E40,2) -> 0 | J40: =ROUND(J39*E40,2) -> 0 | K40: =ROUND(K39*E40,2) -> 0 | L40: =SUM(F40:K40) -> 0 | M40: =L40-E40 -> 0
D41: Físico % | E41: =ROUND((E42/$E$56),4) -> 0 | L41: =SUM(F41:K41) -> 0
...

Sheet CRON2
F1: =F55 -> 0 | G1: =G55 -> 0 | H1: =H55 -> 0 | I1: =I55 -> 0 | J1: =J55 -> 0 | K1: =K55 -> 0
A3: CRONOGRAMA FÍSICO-FINANCEIRO
A4: PREFEITURA MUNICIPAL DE SANTA CRUZ DO ESCALVADO | D4: VALOR DA OBRA: | E4: =PLAN!H84 -> 842254.45 | I4: =PLAN!H3 -> DATA: 21/09/26
A5: =PLAN!A3 -> OBRA: SERVIÇOS DE INFRAESTRUTURA | D5: =PLAN!A4 -> LOCAL: ÁREAS PÚBLICAS MUNICIPAIS DE SANTA CRUZ DO ESCALVADO (MG) | I5: =PLAN!A6 -> PRAZO EXECUÇÃO: | J5: =PLAN!C6 -> 3 (três) meses
A6: ITEM | B6: ETAPAS/DESCRIÇÃO | D6: FÍSICO/ FINANCEIRO | E6: TOTAL ETAPAS | F6: MÊS 7 | G6: MÊS 8 | H6: MÊS 9 | I6: MÊS 10 | J6: MÊS 11 | K6: MÊS 12
A7: =CRON1!A7 -> 1 | B7: =CRON1!B7 -> ADMINISTRAÇÃO LOCAL | D7: Físico % | E7: =(E8/$E$56) -> 0.16485067 | L7: =SUM(F7:K7)+CRON1!L7 -> 1
D8: Financeiro | E8: =CRON1!E8 -> 28014.54 | F8: =ROUND(F7*E8,2) -> 0 | G8: =ROUND(G7*E8,2) -> 0 | H8: =ROUND(H7*E8,2) -> 0 | I8: =ROUND(I7*E8,2) -> 0 | J8: =ROUND(J7*E8,2) -> 0 | K8: =ROUND(K7*E8,2) -> 0 | L8: =SUM(F8:K8)+CRON1!L8 -> 28014.54 | M8: =L8-E8 -> 0
A9: =CRON1!A9 -> 2 | B9: =CRON1!B9 -> SERVIÇOS PRELIMINARES | D9: Físico % | E9: =(E10/$E$56) -> 0.028555324 | L9: =SUM(F9:K9)+CRON1!L9 -> 1
D10: Financeiro | E10: =CRON1!E10 -> 4852.66 | F10: =ROUND(F9*E10,2) -> 0 | G10: =ROUND(G9*E10,2) -> 0 | H10: =ROUND(H9*E10,2) -> 0 | I10: =ROUND(I9*E10,2) -> 0 | J10: =ROUND(J9*E10,2) -> 0 | K10: =ROUND(K9*E10,2) -> 0 | L10: =SUM(F10:K10)+CRON1!L10 -> 4852.66 | M10: =L10-E10 -> 0
A11: =CRON1!A11 -> 3 | B11: =CRON1!B11 -> ÁREA 01 - RUA SAGRADOS CORAÇÕES | D11: Físico % | E11: =(E12/$E$56) -> 0 | L11: =SUM(F11:K11)+CRON1!L11 -> 0
D12: Financeiro | E12: =CRON1!E12 -> 0 | F12: =ROUND(F11*E12,2) -> 0 | G12: =ROUND(G11*E12,2) -> 0 | H12: =ROUND(H11*E12,2) -> 0 | I12: =ROUND(I11*E12,2) -> 0 | J12: =ROUND(J11*E12,2) -> 0 | K12: =ROUND(K11*E12,2) -> 0 | L12: =SUM(F12:K12)+CRON1!L12 -> 0 | M12: =L12-E12 -> 0
A13: =CRON1!A13 -> 3.1 | B13: =CRON1!B13 -> DEMOLIÇÕES E REMOÇÕES | D13: Físico % | E13: =(E14/$E$56) -> 0.02101326 | L13: =SUM(F13:K13)+CRON1!L13 -> 1
D14: Financeiro | E14: =CRON1!E14 -> 3570.97 | F14: =ROUND(F13*E14,2) -> 0 | G14: =ROUND(G13*E14,2) -> 0 | H14: =ROUND(H13*E14,2) -> 0 | I14: =ROUND(I13*E14,2) -> 0 | J14: =ROUND(J13*E14,2) -> 0 | K14: =ROUND(K13*E14,2) -> 0 | L14: =SUM(F14:K14)+CRON1!L14 -> 3570.97 | M14: =L14-E14 -> 0
A15: =CRON1!A15 -> 3.2 | B15: =CRON1!B15 -> EXECUÇÃO DE CANTEIROS | D15: Físico % | E15: =(E16/$E$56) -> 0.0696764 | L15: =SUM(F15:K15)+CRON1!L15 -> 1
D16: Financeiro | E16: =CRON1!E16 -> 11840.73 | F16: =ROUND(F15*E16,2) -> 0 | G16: =ROUND(G15*E16,2) -> 0 | H16: =ROUND(H15*E16,2) -> 0 | I16: =ROUND(I15*E16,2) -> 0 | J16: =ROUND(J15*E16,2) -> 0 | K16: =ROUND(K15*E16,2) -> 0 | L16: =SUM(F16:K16)+CRON1!L16 -> 11840.73 | M16: =L16-E16 -> 0
A17: =CRON1!A17 -> 3.3 | B17: =CRON1!B17 -> PAISAGISMO | D17: Físico % | E17: =(E18/$E$56) -> 0.0227124 | L17: =SUM(F17:K17)+CRON1!L17 -> 1
D18: Financeiro | E18: =CRON1!E18 -> 3859.72 | F18: =ROUND(F17*E18,2) -> 0 | G18: =ROUND(G17*E18,2) -> 0 | H18: =ROUND(H17*E18,2) -> 0 | I18: =ROUND(I17*E18,2) -> 0 | J18: =ROUND(J17*E18,2) -> 0 | K18: =ROUND(K17*E18,2) -> 0 | L18: =SUM(F18:K18)+CRON1!L18 -> 3859.72 | M18: =L18-E18 -> 0
A19: =CRON1!A19 -> 3.4 | B19: =CRON1!B19 -> DRENAGEM PLUVIAL | D19: Físico % | E19: =(E20/$E$56) -> 0.012062395 | L19: =SUM(F19:K19)+CRON1!L19 -> 1
D20: Financeiro | E20: =CRON1!E20 -> 2049.87 | F20: =ROUND(F19*E20,2) -> 0 | G20: =ROUND(G19*E20,2) -> 0 | H20: =ROUND(H19*E20,2) -> 0 | I20: =ROUND(I19*E20,2) -> 0 | J20: =ROUND(J19*E20,2) -> 0 | K20: =ROUND(K19*E20,2) -> 0 | L20: =SUM(F20:K20)+CRON1!L20 -> 2049.87 | M20: =L20-E20 -> 0
A21: =CRON1!A21 -> 3.5 | B21: =CRON1!B21 -> PAVIMENTAÇÃO | D21: Físico % | E21: =(E22/$E$56) -> 0.46593561 | L21: =SUM(F21:K21)+CRON1!L21 -> 1
D22: Financeiro | E22: =CRON1!E22 -> 79180.58 | F22: =ROUND(F21*E22,2) -> 0 | G22: =ROUND(G21*E22,2) -> 0 | H22: =ROUND(H21*E22,2) -> 0 | I22: =ROUND(I21*E22,2) -> 0 | J22: =ROUND(J21*E22,2) -> 0 | K22: =ROUND(K21*E22,2) -> 0 | L22: =SUM(F22:K22)+CRON1!L22 -> 79180.58 | M22: =L22-E22 -> 0
A23: =CRON1!A23 -> 3.6 | B23: =CRON1!B23 -> GUARDA CORPO FIXADO EM CINTA DE CONCRETO ARMADO | D23: Físico % | E23: =(E24/$E$56) -> 0.20214955 | L23: =SUM(F23:K23)+CRON1!L23 -> 1
D24: Financeiro | E24: =CRON1!E24 -> 34353.07 | F24: =ROUND(F23*E24,2) -> 0 | G24: =ROUND(G23*E24,2) -> 0 | H24: =ROUND(H23*E24,2) -> 0 | I24: =ROUND(I23*E24,2) -> 0 | J24: =ROUND(J23*E24,2) -> 0 | K24: =ROUND(K23*E24,2) -> 0 | L24: =SUM(F24:K24)+CRON1!L24 -> 34353.07 | M24: =L24-E24 -> 0
A25: =CRON1!A25 -> 4 | B25: =CRON1!B25 -> ÁREA 02 - RUA OTÁVIO SOARES | D25: Físico % | E25: =(E26/$E$56) -> 0 | L25: =SUM(F25:K25)+CRON1!L25 -> 0
D26: Financeiro | E26: =CRON1!E26 -> 0 | F26: =ROUND(F25*E26,2) -> 0 | G26: =ROUND(G25*E26,2) -> 0 | H26: =ROUND(H25*E26,2) -> 0 | I26: =ROUND(I25*E26,2) -> 0 | J26: =ROUND(J25*E26,2) -> 0 | K26: =ROUND(K25*E26,2) -> 0 | L26: =SUM(F26:K26)+CRON1!L26 -> 0 | M26: =L26-E26 -> 0
A27: =CRON1!A27 -> 4.1 | B27: =CRON1!B27 -> DEMOLIÇÕES E REMOÇÕES | D27: Físico % | E27: =(E28/$E$56) -> 0.013044395 | L27: =SUM(F27:K27)+CRON1!L27 -> 1
D28: Financeiro | E28: =CRON1!E28 -> 2216.75 | F28: =ROUND(F27*E28,2) -> 0 | G28: =ROUND(G27*E28,2) -> 0 | H28: =ROUND(H27*E28,2) -> 0 | I28: =ROUND(I27*E28,2) -> 0 | J28: =ROUND(J27*E28,2) -> 0 | K28: =ROUND(K27*E28,2) -> 0 | L28: =SUM(F28:K28)+CRON1!L28 -> 2216.75 | M28: =L28-E28 -> 0
D29: Físico % | E29: =(E30/$E$56) -> 0 | L29: =SUM(F29:K29)+CRON1!L29 -> 1
D30: Financeiro | F30: =ROUND(F29*E30,2) -> 0 | G30: =ROUND(G29*E30,2) -> 0 | H30: =ROUND(H29*E30,2) -> 0 | I30: =ROUND(I29*E30,2) -> 0 | J30: =ROUND(J29*E30,2) -> 0 | K30: =ROUND(K29*E30,2) -> 0 | L30: =SUM(F30:K30)+CRON1!L30 -> 510431.92 | M30: =L30-E30 -> 510431.92
D31: Físico % | E31: =(E32/$E$56) -> 0 | L31: =SUM(F31:K31)+CRON1!L31 -> 1
D32: Financeiro | F32: =ROUND(F31*E32,2) -> 0 | G32: =ROUND(G31*E32,2) -> 0 | H32: =ROUND(H31*E32,2) -> 0 | I32: =ROUND(I31*E32,2) -> 0 | J32: =ROUND(J31*E32,2) -> 0 | K32: =ROUND(K31*E32,2) -> 0 | L32: =SUM(F32:K32)+CRON1!L32 -> 13086.74 | M32: =L32-E32 -> 13086.74
D33: Físico % | E33: =(E34/$E$56) -> 0 | L33: =SUM(F33:K33)+CRON1!L33 -> 1
D34: Financeiro | F34: =ROUND(F33*E34,2) -> 0 | G34: =ROUND(G33*E34,2) -> 0 | H34: =ROUND(H33*E34,2) -> 0 | I34: =ROUND(I33*E34,2) -> 0 | J34: =ROUND(J33*E34,2) -> 0 | K34: =ROUND(K33*E34,2) -> 0 | L34: =SUM(F34:K34)+CRON1!L34 -> 148796.9 | M34: =L34-E34 -> 148796.9
D35: Físico % | E35: =(E36/$E$56) -> 0 | L35: =SUM(F35:K35)+CRON1!L35 -> 0
D36: Financeiro | F36: =ROUND(F35*E36,2) -> 0 | G36: =ROUND(G35*E36,2) -> 0 | H36: =ROUND(H35*E36,2) -> 0 | I36: =ROUND(I35*E36,2) -> 0 | J36: =ROUND(J35*E36,2) -> 0 | K36: =ROUND(K35*E36,2) -> 0 | L36: =SUM(F36:K36)+CRON1!L36 -> 0 | M36: =L36-E36 -> 0
D37: Físico % | E37: =(E38/$E$56) -> 0 | L37: =SUM(F37:K37)+CRON1!L37 -> 0
D38: Financeiro | F38: =ROUND(F37*E38,2) -> 0 | G38: =ROUND(G37*E38,2) -> 0 | H38: =ROUND(H37*E38,2) -> 0 | I38: =ROUND(I37*E38,2) -> 0 | J38: =ROUND(J37*E38,2) -> 0 | K38: =ROUND(K37*E38,2) -> 0 | L38: =SUM(F38:K38)+CRON1!L38 -> 0 | M38: =L38-E38 -> 0
D39: Físico % | E39: =(E40/$E$56) -> 0 | L39: =SUM(F39:K39)+CRON1!L39 -> 0
D40: Financeiro | F40: =ROUND(F39*E40,2) -> 0 | G40: =ROUND(G39*E40,2) -> 0 | H40: =ROUND(H39*E40,2) -> 0 | I40: =ROUND(I39*E40,2) -> 0 | J40: =ROUND(J39*E40,2) -> 0 | K40: =ROUND(K39*E40,2) -> 0 | L40: =SUM(F40:K40)+CRON1!L40 -> 0 | M40: =L40-E40 -> 0
D41: Físico % | E41: =(E42/$E$56) -> 0 | L41: =SUM(F41:K41)+CRON1!L41 -> 0
...

Sheet FOTOS
A2: RELATÓRIO FOTOGRÁFICO - ANTES DA LICITAÇÃO
A3: =PLAN!A3 -> OBRA: SERVIÇOS DE INFRAESTRUTURA | L3: =PLAN!H3 -> DATA: 21/09/26
A4: =PLAN!A4 -> LOCAL: ÁREAS PÚBLICAS MUNICIPAIS DE SANTA CRUZ DO ESCALVADO (MG)
C52: Eng. Civil WILSON DIAS DA FONSECA JÚNIOR | H52: 61.924 / D
C53: Carimbo e assinatura do engenheiro responsável técnico pela elaboração do cronograma | H53: CREA

Sheet BDI
A3: COMPOSIÇÃO ANALÍTICA DE LDI OU BDI
A5: Nº do Contrato de Repasse:
A6: Proponente:
A7: Empreendimento: | B7: =PLAN!A3 -> OBRA: SERVIÇOS DE INFRAESTRUTURA
A8: Tipo de Obra: | B8: Construção de Rodovias (Pavimentação Urbana) | F8: =IF(B8<>"","OK","PREENCHER") -> OK
A9: Base de Cálculo do ISS da Prefeitura: | B9: 0.6 | F9: =IF(B9<>"","OK","PREENCHER") -> OK
A10: Orçamento Desonerado? (Sim ou Não) | B10: SIM | F10: =IF(B10<>"","OK","PREENCHER") -> OK
A12: DESCRIÇÃO | B12: VALORES DE REFERÊNCIA - % | E12: BDI ADOTADO - %
B13: (1° Quartil) | C13: MÉDIA | D13: (3° Quartil)
A14: Administração Central | B14: =IF(ISERROR(VLOOKUP($B$8,'[2]Base dados - TCU 2622_2013'!$A$7:$V$14,2,)),"",VLOOKUP($B$8,'[2]Base dados - TCU 2622_2013'!$A$7:$V$14,2,)) -> 3.8 | C14: =IF(ISERROR(VLOOKUP($B$8,'[2]Base dados - TCU 2622_2013'!$A$7:$V$14,3,)),"",VLOOKUP($B$8,'[2]Base dados - TCU 2622_2013'!$A$7:$V$14,3,)) -> 4.01 | D14: =IF(ISERROR(VLOOKUP($B$8,'[2]Base dados - TCU 2622_2013'!$A$7:$V$14,4,)),"",VLOOKUP($B$8,'[2]Base dados - TCU 2622_2013'!$A$7:$V$14,4,)) -> 4.67 | E14: 4.01 | F14: =IF(AND(E14>=B14,E14<=D14),"OK","PREENCHER") -> OK
A15: Seguros e Garantias (*) | B15: =IF(ISERROR(VLOOKUP($B$8,'[2]Base dados - TCU 2622_2013'!$A$7:$V$14,5,)),"",VLOOKUP($B$8,'[2]Base dados - TCU 2622_2013'!$A$7:$V$14,5,)) -> 0.32 | C15: =IF(ISERROR(VLOOKUP($B$8,'[2]Base dados - TCU 2622_2013'!$A$7:$V$14,6,)),"",VLOOKUP($B$8,'[2]Base dados - TCU 2622_2013'!$A$7:$V$14,6,)) -> 0.4 | D15: =IF(ISERROR(VLOOKUP($B$8,'[2]Base dados - TCU 2622_2013'!$A$7:$V$14,7,)),"",VLOOKUP($B$8,'[2]Base dados - TCU 2622_2013'!$A$7:$V$14,7,)) -> 0.74 | E15: 0.4 | F15: =IF(AND(E15>=B15,E15<=D15),"OK","PREENCHER") -> OK
A16: Riscos | B16: =IF(ISERROR(VLOOKUP($B$8,'[2]Base dados - TCU 2622_2013'!$A$7:$V$14,8,)),"",VLOOKUP($B$8,'[2]Base dados - TCU 2622_2013'!$A$7:$V$14,8,)) -> 0.5 | C16: =IF(ISERROR(VLOOKUP($B$8,'[2]Base dados - TCU 2622_2013'!$A$7:$V$14,6,)),"",VLOOKUP($B$8,'[2]Base dados - TCU 2622_2013'!$A$7:$V$14,9,)) -> 0.56 | D16: =IF(ISERROR(VLOOKUP($B$8,'[2]Base dados - TCU 2622_2013'!$A$7:$V$14,7,)),"",VLOOKUP($B$8,'[2]Base dados - TCU 2622_2013'!$A$7:$V$14,10,)) -> 0.97 | E16: 0.56 | F16: =IF(AND(E16>=B16,E16<=D16),"OK","PREENCHER") -> OK
A17: Despesas Financeiras | B17: =IF(ISERROR(VLOOKUP($B$8,'[2]Base dados - TCU 2622_2013'!$A$7:$V$14,11,)),"",VLOOKUP($B$8,'[2]Base dados - TCU 2622_2013'!$A$7:$V$14,11,)) -> 1.02 | C17: =IF(ISERROR(VLOOKUP($B$8,'[2]Base dados - TCU 2622_2013'!$A$7:$V$14,12,)),"",VLOOKUP($B$8,'[2]Base dados - TCU 2622_2013'!$A$7:$V$14,12,)) -> 1.11 | D17: =IF(ISERROR(VLOOKUP($B$8,'[2]Base dados - TCU 2622_2013'!$A$7:$V$14,13,)),"",VLOOKUP($B$8,'[2]Base dados - TCU 2622_2013'!$A$7:$V$14,13,)) -> 1.21 | E17: 1.11 | F17: =IF(AND(E17>=B17,E17<=D17),"OK","PREENCHER") -> OK
A18: Lucro | B18: =IF(ISERROR(VLOOKUP($B$8,'[2]Base dados - TCU 2622_2013'!$A$7:$V$14,14,)),"",VLOOKUP($B$8,'[2]Base dados - TCU 2622_2013'!$A$7:$V$14,14,)) -> 6.64 | C18: =IF(ISERROR(VLOOKUP($B$8,'[2]Base dados - TCU 2622_2013'!$A$7:$V$14,15,)),"",VLOOKUP($B$8,'[2]Base dados - TCU 2622_2013'!$A$7:$V$14,15,)) -> 7.3 | D18: =IF(ISERROR(VLOOKUP($B$8,'[2]Base dados - TCU 2622_2013'!$A$7:$V$14,16,)),"",VLOOKUP($B$8,'[2]Base dados - TCU 2622_2013'!$A$7:$V$14,16,)) -> 8.69 | E18: 7.3 | F18: =IF(AND(E18>=B18,E18<=D18),"OK","PREENCHER") -> OK
A19: COFINS | B19: =IF(ISERROR(VLOOKUP($B$8,'[2]Base dados - TCU 2622_2013'!$A$7:$V$14,17,)),"",VLOOKUP($B$8,'[2]Base dados - TCU 2622_2013'!$A$7:$V$14,17,)) -> 3 | C19: =IF(ISERROR(VLOOKUP($B$8,'[2]Base dados - TCU 2622_2013'!$A$7:$V$14,17,)),"",VLOOKUP($B$8,'[2]Base dados - TCU 2622_2013'!$A$7:$V$14,17,)) -> 3 | D19: =IF(ISERROR(VLOOKUP($B$8,'[2]Base dados - TCU 2622_2013'!$A$7:$V$14,17,)),"",VLOOKUP($B$8,'[2]Base dados - TCU 2622_2013'!$A$7:$V$14,17,)) -> 3 | E19: 3 | F19: =IF(AND(E19>=B19,E19<=D19),"OK","PREENCHER") -> OK
A20: PIS | B20: =IF(ISERROR(VLOOKUP($B$8,'[2]Base dados - TCU 2622_2013'!$A$7:$V$14,18,)),"",VLOOKUP($B$8,'[2]Base dados - TCU 2622_2013'!$A$7:$V$14,18,)) -> 0.65 | C20: =IF(ISERROR(VLOOKUP($B$8,'[2]Base dados - TCU 2622_2013'!$A$7:$V$14,18,)),"",VLOOKUP($B$8,'[2]Base dados - TCU 2622_2013'!$A$7:$V$14,18,)) -> 0.65 | D20: =IF(ISERROR(VLOOKUP($B$8,'[2]Base dados - TCU 2622_2013'!$A$7:$V$14,18,)),"",VLOOKUP($B$8,'[2]Base dados - TCU 2622_2013'!$A$7:$V$14,18,)) -> 0.65 | E20: 0.65 | F20: =IF(AND(E20>=B20,E20<=D20),"OK","PREENCHER") -> OK
A21: ISS (**) | B21: =IF(ISERROR(VLOOKUP($B$8,'[2]Base dados - TCU 2622_2013'!$A$7:$V$14,19,)),"",VLOOKUP($B$8,'[2]Base dados - TCU 2622_2013'!$A$7:$V$14,19,)) -> 2 | C21: =IF(ISERROR(VLOOKUP($B$8,'[2]Base dados - TCU 2622_2013'!$A$7:$V$14,20,)),"",VLOOKUP($B$8,'[2]Base dados - TCU 2622_2013'!$A$7:$V$14,20,)) -> 3.5 | D21: =IF(ISERROR(VLOOKUP($B$8,'[2]Base dados - TCU 2622_2013'!$A$7:$V$14,21,)),"",VLOOKUP($B$8,'[2]Base dados - TCU 2622_2013'!$A$7:$V$14,21,)) -> 5 | E21: 3 | F21: =IF(AND(E21>=B21,E21<=D21),"OK","PREENCHER") -> OK
A22: =IF(B10="sim","CPRB - Alíquota 4,5% Receita Bruta (Desoneração)","") -> CPRB - Alíquota 4,5% Receita Bruta (Desoneração) | B22: =IF($A$22="CPRB - Alíquota 4,5% Receita Bruta (Desoneração)",4.5,IF($B$10="","Preencher cabeçalho",0)) -> 4.5 | C22: =IF($A$22="CPRB - Alíquota 4,5% Receita Bruta (Desoneração)",4.5,IF($B$10="","Preencher cabeçalho",0)) -> 4.5 | D22: =IF($A$22="CPRB - Alíquota 4,5% Receita Bruta (Desoneração)",4.5,IF($B$10="","Preencher cabeçalho",0)) -> 4.5 | E22: =IF(B10="SIM",4.5,0) -> 4.5 | F22: =IF(AND(E22>=B22,E22<=D22),"OK","PREENCHER") -> OK
A23: LIMITE BDI C/ DESONERAÇÃO | B23: =IF($B$10="SIM",E28,"") -> 25.57668 | C23: =IF($B$10="SIM",J27,"") -> 27.015142 | D23: =IF($B$10="SIM",L27,"") -> 30.438051 | E23: =IF(B10="SIM",IF(G23<12,"PREENCHER CÉLULAS RESTANTES",((((1+E14/100+E15/100+E16/100)*(1+E17/100)*(1+E18/100))/(1-((E19+E20+E21*$B$9+E22)/100))-1)*100)),"") -> 26.466446 | G23: =COUNTIF(F8:F22,"OK") -> 12
A24: LIMITE BDI S/ DESONERAÇÃO | B24: =IF(B8<>"",VLOOKUP($B$8,'[2]Base dados - TCU 2622_2013'!$A$7:$Y$14,23,),"") -> 19.6 | C24: =IF(B8<>"",VLOOKUP($B$8,'[2]Base dados - TCU 2622_2013'!$A$7:$Y$14,24,),"") -> 20.97 | D24: =IF(B8<>"",VLOOKUP($B$8,'[2]Base dados - TCU 2622_2013'!$A$7:$Y$14,25,),"") -> 24.23 | E24: =IF(B10="NÃO",IF(G23<12,"PREENCHER CÉLULAS RESTANTES",((((1+E14/100+E15/100+E16/100)*(1+E17/100)*(1+E18/100))/(1-((E19+E20+E21*$B$9)/100))-1)*100)),"") | F24: =IF(E26="ERRADO","BDI EXTRAPOLA A MAIS OU A MENOS OS LIMITES DO BDI ESTABELECIDOS PELO TCYU ACÓRDÃO 2622/2013","")
A25: Fonte da composição, valores de referência e fórmula do BDI: Acórdão 2622/2013-TCU-Plenário
A26: Desoneração: Lei n°13.161/2015 | D26: Verificação do BDI: | E26: =IF(B10="NÃO",(IF(E24>D24,"INADEQUADO",IF(E24<B24,"INADEQUADO","OK"))),IF(B10="SIM",(IF(E23>D23,"INADEQUADO",IF(E23<B23,"INADEQUADO","OK"))),"")) -> OK | F26: BDI S/ DESN
D27: =IF(B10="SIM","BDI s/ desoneração:","") -> BDI s/ desoneração: | E27: =IF(B10="SIM",((((1+E14/100+E15/100+E16/100)*(1+E17/100)*(1+E18/100))/(1-((E19+E20+E21*$B$9)/100))-1)*100),"") -> 20.447418 | F27: BDI C/ DESN | I27: =VLOOKUP($B$8,'[2]Base dados - TCU 2622_2013'!$A$7:$Y$14,23,) -> 19.6 | J27: =((1+K27/100)*(((0.045/(0.9185-$E$21/100*$B$9))+1))-1)*100 -> 27.015142 | K27: =VLOOKUP($B$8,'[2]Base dados - TCU 2622_2013'!$A$7:$Y$14,24,) -> 20.97 | L27: =((1+M27/100)*(((0.045/(0.9185-$E$21/100*$B$9))+1))-1)*100 -> 30.438051 | M27: =VLOOKUP($B$8,'[2]Base dados - TCU 2622_2013'!$A$7:$Y$14,25,) -> 24.23
A28: Os valores de BDI acima foram calculados com emprego da fórmula abaixo: | E28: =((1+I27/100)*(((0.045/(0.9185-$E$21/100*$B$9))+1))-1)*100 -> 25.57668 | J28: =((1+K27/100)*(0.9635-$E$21*$B$9/100)/(0.9435-$E$22*$B$9/100)-1)*100 -> 24.797747 | L28: =((1+M27/100)*(0.9635-$E$21*$B$9/100)/(0.9435-$E$22*$B$9/100)-1)*100 -> 28.1609
E29: =((1+I27/100)*(0.9635-$E$21*$B$9/100)/(0.9185-$E$22*$B$9/100)-1)*100 -> 26.84442
A33: Onde:
A34: AC = taxa de rateio da Administração Central;
A35: DF = taxa das despesas financeiras;
A36: R, S, G = taxa de risco, seguro e garantia do empreendimento;
A37: I = taxa de tributos (Onerado: I = COFINS+PIS+ISS / Desonerado: I = COFINS+PIS+ISS+CPRB);
A38: L = taxa de lucro.
A40: =CONCATENATE("Declaro para os devidos fins que, conforme legislação tributária municipal, a base de cálculo do ISS para ",B8," é de ",B9*100,"%, com a respectiva alíquota de ",E21,"%. Declaramos ainda que adotamos orçamento ",IF(B10="SIM","Com Desoneração",IF(B10="NÃO","Sem Desoneração",""))," e que esta é a alternativa mais adequada para a Administração Pública.") -> Declaro para os devidos fins que, conforme legislação tributária municipal, a base de cálculo do ISS para Construção de Rodovias (Pavimentação Urbana) é de 60%, com a respectiva alíquota de 3%. Declaramos ainda que adotamos orçamento Com Desoneração e que esta é a alternativa mais adequada para a Administração Pública.
A45: Profissional: WILSON DIAS DA FONSECA JR. | C45: Resp. Tomador:
A46: CREA: 61.924/D | C46: Cargo:

Sheet BDI-Dados
A1: Sigla S/N
A2: SIM
A3: NÃO
B5: AC | E5: SG | H5: R | K5: DF | N5: L | Q5: COFINS | R5: PIS | S5: ISS | V5: DESON. | W5: LIMITE BDI
A6: Sigla Obras | B6: MÍN | C6: MED | D6: MAX | E6: MÍN | F6: MED | G6: MAX | H6: MÍN | I6: MED | J6: MAX | K6: MÍN | L6: MED | M6: MAX | N6: MÍN | O6: MED | P6: MAX | S6: MÍN | T6: MED | U6: MAX | W6: MÍN | X6: MED | Y6: MAX
A7: Construção de Edifícios e Reformas (Quadras, unidades habitacionais, escolas, restaurantes, etc) | B7: 3 | C7: 4 | D7: 5.5 | E7: 0.8 | F7: 0.8 | G7: 1 | H7: 0.97 | I7: 1.27 | J7: 1.27 | K7: 0.59 | L7: 1.23 | M7: 1.39 | N7: 6.16 | O7: 7.4 | P7: 8.96 | Q7: 3 | R7: 0.65 | S7: 2 | T7: =(S7+U7)/2 -> 3.5 | U7: 5 | V7: 2 | W7: 20.34 | X7: 22.12 | Y7: 25
A8: Construção de Praças | B8: 3.8 | C8: 4.01 | D8: 4.67 | E8: 0.32 | F8: 0.4 | G8: 0.74 | H8: 0.5 | I8: 0.56 | J8: 0.97 | K8: 1.02 | L8: 1.11 | M8: 1.21 | N8: 6.64 | O8: 7.3 | P8: 8.69 | Q8: 3 | R8: 0.65 | S8: 2 | T8: =(S8+U8)/2 -> 3.5 | U8: 5 | V8: 2 | W8: 19.6 | X8: 20.97 | Y8: 24.23
A9: Construção de Rodovias (Pavimentação Urbana) | B9: 3.8 | C9: 4.01 | D9: 4.67 | E9: 0.32 | F9: 0.4 | G9: 0.74 | H9: 0.5 | I9: 0.56 | J9: 0.97 | K9: 1.02 | L9: 1.11 | M9: 1.21 | N9: 6.64 | O9: 7.3 | P9: 8.69 | Q9: 3 | R9: 0.65 | S9: 2 | T9: =(S9+U9)/2 -> 3.5 | U9: 5 | V9: 2 | W9: 19.6 | X9: 20.97 | Y9: 24.23
A10: Construção de Ferrovias | B10: 3.8 | C10: 4.01 | D10: 4.67 | E10: 0.32 | F10: 0.4 | G10: 0.74 | H10: 0.5 | I10: 0.56 | J10: 0.97 | K10: 1.02 | L10: 1.11 | M10: 1.21 | N10: 6.64 | O10: 7.3 | P10: 8.69 | Q10: 3 | R10: 0.65 | S10: 2 | T10: =(S10+U10)/2 -> 3.5 | U10: 5 | V10: 2 | W10: 19.6 | X10: 20.97 | Y10: 24.23
A11: Construção de Redes de Abastecimento de Água, Coleta de Esgoto e Construções Correlatas | B11: 3.43 | C11: 4.93 | D11: 6.71 | E11: 0.28 | F11: 0.49 | G11: 0.75 | H11: 1 | I11: 1.39 | J11: 1.74 | K11: 0.94 | L11: 0.99 | M11: 1.17 | N11: 6.74 | O11: 8.04 | P11: 9.4 | Q11: 3 | R11: 0.65 | S11: 2 | T11: =(S11+U11)/2 -> 3.5 | U11: 5 | V11: 2 | W11: 20.76 | X11: 24.18 | Y11: 26.44
A12: Construção e Manutenção de Estações e Redes de Distribuição de Energia Elétrica | B12: 5.29 | C12: 5.92 | D12: 7.93 | E12: 0.25 | F12: 0.51 | G12: 0.56 | H12: 1 | I12: 1.48 | J12: 1.97 | K12: 1.01 | L12: 1.07 | M12: 1.11 | N12: 8 | O12: 8.31 | P12: 9.51 | Q12: 3 | R12: 0.65 | S12: 2 | T12: =(S12+U12)/2 -> 3.5 | U12: 5 | V12: 2 | W12: 24 | X12: 25.84 | Y12: 27.86
A13: Portuárias, Marítimas e Fluviais | B13: 4 | C13: 5.52 | D13: 7.85 | E13: 0.81 | F13: 1.22 | G13: 1.99 | H13: 1.46 | I13: 2.32 | J13: 3.16 | K13: 0.94 | L13: 1.02 | M13: 1.33 | N13: 7.14 | O13: 8.4 | P13: 10.43 | Q13: 3 | R13: 0.65 | S13: 2 | T13: =(S13+U13)/2 -> 3.5 | U13: 5 | V13: 2 | W13: 22.8 | X13: 27.48 | Y13: 30.95
A14: Fornecimento de Materiais e Equipamentos | B14: 1.5 | C14: 3.45 | D14: 4.49 | E14: 0.3 | F14: 0.48 | G14: 0.82 | H14: 0.56 | I14: 0.85 | J14: 0.89 | K14: 0.85 | L14: 0.85 | M14: 1.11 | N14: 3.5 | O14: 5.11 | P14: 6.22 | Q14: 3 | R14: 0.65 | S14: 2 | T14: =(S14+U14)/2 -> 3.5 | U14: 5 | V14: 2 | W14: 11.1 | X14: 14.02 | Y14: 16.8

Sheet BM 01
A2: PLANILHA PARA ACOMPANHAMENTO DE MEDIÇÕES | M2: BOLETIM n°: | O2: 01
A3: EMPRESA: | C3: CONSTRUTORA SANCARLOS LTDA | M3: DATA INICIAL: | N3: ordem de serviço
A4: =PLAN!A3 -> OBRA: SERVIÇOS DE INFRAESTRUTURA | M4: DATA FINAL: | N4: 46244
A5: =PLAN!A4 -> LOCAL: ÁREAS PÚBLICAS MUNICIPAIS DE SANTA CRUZ DO ESCALVADO (MG) | M5: DATA MEDIÇÃO:
A6: LICITAÇÃO: Processo Licitatório nº 115/2026 - Concorrência nº 028/2026 - Contrato nº 028/2026 | I6: REGIME DE EXECUÇÃO: INDIRETO | K6: ORÇAMENTO: DESONERADO | M6: BDI ADOTADO: | N6: =PLAN!H6 -> 0.2647 | P6: =G65 -> #REF!
A7: ITEM | B7: CÓDIGO | C7: DESCRIÇÃO DOS SERVIÇOS | D7: UNID | E7: QUANT. TOTAL | F7: PREÇO UNIT. | G7: VALOR TOTAL | H7: QUANTIDADE ACUMULADA ANTERIOR | I7: QUANTIDADE MEDIDA | J7: QUANTIDADE ACUMULADA | K7: SALDO DE QUANTITATIVO | L7: VALOR MEDIDO | M7: VALOR ACUMULADO | N7: PERCENTUAL ACUMULADO | O7: SALDO FINANCEIRO POR ITEM | Q7: 0.2689
A8: =PLAN!A8 -> 1 | C8: =PLAN!C8 -> ADMINISTRAÇÃO LOCAL | D8: =PLAN!D8 -> 0
A9: =PLAN!A9 -> 1.1 | C9: =PLAN!C9 -> ENCARREGADO GERAL DE OBRAS COM ENCARGOS COMPLEMENTARES | D9: =PLAN!D9 -> MÊS | E9: =PLAN!E9 -> 2.18 | F9: =PLAN!G9 -> 12293.01 | G9: =ROUND(E9*F9,2) -> 26798.76 | I9: 2.1818182 | J9: =I9+H9 -> 2.1818182 | K9: =E9-J9 -> -0.0018181818 | L9: =ROUND(I9*F9,2) -> 26821.11 | M9: =ROUND(J9*F9,2) -> 26821.11 | N9: =ROUND(M9/G9,4) -> 1.0008 | O9: =G9-M9 -> -22.35
A10: =PLAN!A10 -> 1.2 | C10: =PLAN!C10 -> TÉCNICO EM SEGURANÇA DO TRABALHO COM ENCARGOS COMPLEMENTARES | D10: =PLAN!D10 -> MÊS | E10: =PLAN!E10 -> 0.03 | F10: =PLAN!G10 -> 10433.19 | G10: =ROUND(E10*F10,2) -> 313 | I10: 0.027272727 | J10: =I10+H10 -> 0.027272727 | K10: =E10-J10 -> 0.0027272727 | L10: =ROUND(I10*F10,2) -> 284.54 | M10: =ROUND(J10*F10,2) -> 284.54 | N10: =ROUND(M10/G10,4) -> 0.9091 | O10: =G10-M10 -> 28.46
A11: =PLAN!A11 -> 1.3 | C11: =PLAN!C11 -> ENGENHEIRO CIVIL DE OBRA PLENO COM ENCARGOS COMPLEMENTARES | D11: =PLAN!D11 -> MÊS | E11: =PLAN!E11 -> 0.03 | F11: =PLAN!G11 -> 30092.51 | G11: =ROUND(E11*F11,2) -> 902.78 | I11: 0.054545455 | J11: =I11+H11 -> 0.054545455 | K11: =E11-J11 -> -0.024545455 | L11: =ROUND(I11*F11,2) -> 1641.41 | M11: =ROUND(J11*F11,2) -> 1641.41 | N11: =ROUND(M11/G11,4) -> 1.8182 | O11: =G11-M11 -> -738.63 | P11: =SUM(G9:G11) -> 28014.54 | Q11: =P11/G65 -> #REF!
A12: =PLAN!A12 -> 2 | C12: =PLAN!C12 -> SERVIÇOS PRELIMINARES | D12: =PLAN!D12 -> 0
A13: =PLAN!A13 -> 2.1 | C13: =PLAN!C13 -> FORNECIMENTO E COLOCAÇÃO DE PLACA DE OBRA EM CHAPA GALVANIZADA #26, ESP. 0,45 MM, PLOTADA COM ADESIVO VINÍLICO, AFIXADA C/ REBITES 4,8X40 MM, EM ESTRUTURA METÁLICA DE METALON 20X20 MM, ESP. 1,25 MM, INCL SUPORTE EM EUCALIPTO AUTOCLAVADO PINTADO COM TINTA PVA DUAS (2) DEMÃOS | D13: =PLAN!D13 -> M2 | E13: =PLAN!E13 -> 2 | F13: =PLAN!G13 -> 331.17 | G13: =ROUND(E13*F13,2) -> 662.34 | I13: 2 | J13: =I13+H13 -> 2 | K13: =E13-J13 -> 0 | L13: =ROUND(I13*F13,2) -> 662.34 | M13: =ROUND(J13*F13,2) -> 662.34 | N13: =ROUND(M13/G13,4) -> 1 | O13: =G13-M13 -> 0 | Q13: 0.02
A14: =PLAN!A14 -> 2.2 | C14: =PLAN!C14 -> MOBILIZAÇÃO E DESMOBILIZAÇÃO OBRA DISTANTE DE CENTRO URBANO OU REGIÃO LIMÍTROFE COM VALOR ATÉ 1.000.000,00 | D14: =PLAN!D14 -> % | E14: =PLAN!E14 -> 0.5 | F14: =PLAN!G14 -> 838064.13 | G14: =ROUND(E14*F14,2)/100 -> 4190.3207 | I14: 2 | J14: =I14+H14 -> 2 | K14: =E14-J14 -> -1.5 | L14: =ROUND(I14*F14,2)/100 -> 16761.283 | M14: =ROUND(J14*F14,2)/100 -> 16761.283 | N14: =ROUND(M14/G14,4) -> 4 | O14: =G14-M14 -> -12570.962 | P14: =SUM(G13:G14) -> 4852.6607 | Q14: =Q13*G65 -> #REF!
A15: =PLAN!A15 -> 3 | C15: =PLAN!C15 -> ÁREA 01 - RUA SAGRADOS CORAÇÕES
A16: =PLAN!A17 -> 3.1.1 | C16: =PLAN!C17 -> REMOÇÃO DE MEIO FIO PRÉ MOLDADO DE CONCRETO
A17: =PLAN!A19 -> 3.1.3 | C17: =PLAN!C19 -> TRANSPORTE DE MATERIAL DE QUALQUER NATUREZA COM CARRINHO DE MÃO, COM DISTÂNCIAS MENORES OU IGUAIS A 50M, INCLUSIVE CARGA/DESCARGA | D17: =PLAN!D19 -> M3 | E17: =PLAN!E19 -> 5.09 | F17: =PLAN!G19 -> 35.29 | G17: =ROUND(E17*F17,2) -> 179.63 | I17: 2250 | J17: =I17+H17 -> 2250 | K17: =E17-J17 -> -2244.91 | L17: =ROUND(I17*F17,2) -> 79402.5 | M17: =ROUND(J17*F17,2) -> 79402.5 | N17: =ROUND(M17/G17,4) -> 442.0336 | O17: =G17-M17 -> -79222.87
A18: =PLAN!A20 -> 3.1.4 | C18: =PLAN!C20 -> TRANSPORTE DE MATERIAL DE QUALQUER NATUREZA EM CAMINHÃO, DISTÂNCIA MAIOR QUE 1KM E MENOR OU IGUAL A 2KM, DENTRO DO PERÍMETRO URBANO, EXCLUSIVE CARGA, INCLUSIVE DESCARGA | D18: =PLAN!D20 -> M3xKM | E18: =PLAN!E20 -> 10.18 | F18: =PLAN!G20 -> 5.25 | G18: =ROUND(E18*F18,2) -> 53.45 | I18: 50 | J18: =I18+H18 -> 50 | K18: =E18-J18 -> -39.82 | L18: =ROUND(I18*F18,2) -> 262.5 | M18: =ROUND(J18*F18,2) -> 262.5 | N18: =ROUND(M18/G18,4) -> 4.9111 | O18: =G18-M18 -> -209.05
A19: =PLAN!#REF! -> #REF! | C19: =PLAN!#REF! -> #REF! | D19: =PLAN!#REF! -> #REF! | E19: =PLAN!#REF! -> #REF! | F19: =PLAN!#REF! -> #REF! | G19: =ROUND(E19*F19,2) -> #REF! | I19: 450 | J19: =I19+H19 -> 450 | K19: =E19-J19 -> #REF! | L19: =ROUND(I19*F19,2) -> #REF! | M19: =ROUND(J19*F19,2) -> #REF! | N19: =ROUND(M19/G19,4) -> #REF! | O19: =G19-M19 -> #REF!
A20: =PLAN!A21 -> 3.2 | C20: =PLAN!C21 -> EXECUÇÃO DE CANTEIROS | D20: =PLAN!D21 -> 0
A21: =PLAN!A22 -> 3.2.1 | C21: =PLAN!C22 -> ESCAVAÇÃO MANUAL DE VALA COM PROFUNDIDADE MENOR OU IGUAL A 1,5M, INCLUSIVE DESCARGA LATERAL | D21: =PLAN!D22 -> M3 | E21: =PLAN!E22 -> 1.77 | F21: =PLAN!G22 -> 101.76 | G21: =ROUND(E21*F21,2) -> 180.12 | I21: 80 | J21: =I21+H21 -> 80 | K21: =E21-J21 -> -78.23 | L21: =ROUND(I21*F21,2) -> 8140.8 | M21: =ROUND(J21*F21,2) -> 8140.8 | N21: =ROUND(M21/G21,4) -> 45.1965 | O21: =G21-M21 -> -7960.68
A22: =PLAN!A23 -> 3.2.2 | C22: =PLAN!C23 -> CINTA EM CONCRETO ARMADO | D22: =PLAN!D23 -> 0 | E22: =PLAN!E23 -> 0 | F22: =PLAN!G23 -> 0 | G22: =ROUND(E22*F22,2) -> 0 | I22: 240 | J22: =I22+H22 -> 240 | K22: =E22-J22 -> -240 | L22: =ROUND(I22*F22,2) -> 0 | M22: =ROUND(J22*F22,2) -> 0 | N22: =ROUND(M22/G22,4) -> #DIV/0! | O22: =G22-M22 -> 0
A23: =PLAN!A27 -> 3.2.2.4 | C23: =PLAN!C27 -> GUIA DE CORDÃO BOLEADO, EM CONCRETO COM FCK 20MPA, PRÉ MOLDADA, 10X10CM (ALTURA X LARGURA), INCLUSIVE UMA (1) FIADA DE BLOCO DE CONCRETO, ESP. 9CM, ESCAVAÇÃO, APILOAMENTO E TRANSPORTE COM RETIRADA DO MATERIAL ESCAVADO (EM CAÇAMBA) | D23: =PLAN!D27 -> M | E23: =PLAN!E27 -> 59 | F23: =PLAN!G27 -> 78.51 | G23: =ROUND(E23*F23,2) -> 4632.09 | I23: 11250 | J23: =I23+H23 -> 11250 | K23: =E23-J23 -> -11191 | L23: =ROUND(I23*F23,2) -> 883237.5 | M23: =ROUND(J23*F23,2) -> 883237.5 | N23: =ROUND(M23/G23,4) -> 190.678 | O23: =G23-M23 -> -878605.41
A24: =PLAN!A29 -> 3.3.1 | C24: =PLAN!C29 -> PLANTIO DE GRAMA ESMERALDA EM PLACAS, INCLUSIVE TERRA VEGETAL E CONSERVAÇÃO POR TRINTA (30) DIAS | D24: =PLAN!D29 -> M2 | E24: =PLAN!E29 -> 74.34 | F24: =PLAN!G29 -> 48.6 | G24: =ROUND(E24*F24,2) -> 3612.92 | I24: 562.5 | J24: =I24+H24 -> 562.5 | K24: =E24-J24 -> -488.16 | L24: =ROUND(I24*F24,2) -> 27337.5 | M24: =ROUND(J24*F24,2) -> 27337.5 | N24: =ROUND(M24/G24,4) -> 7.5666 | O24: =G24-M24 -> -23724.58
A25: =PLAN!A30 -> 3.3.2 | C25: =PLAN!C30 -> FORNECIMENTO DE ARBUSTO BELA EMÍLIA COM ALTURA MÍNIMA DE 15CM, EXCLUSIVE PLANTIO | D25: =PLAN!D30 -> UNID | E25: =PLAN!E30 -> 10 | F25: =PLAN!G30 -> 8.54 | G25: =ROUND(E25*F25,2) -> 85.4 | I25: 225 | J25: =I25+H25 -> 225 | K25: =E25-J25 -> -215 | L25: =ROUND(I25*F25,2) -> 1921.5 | M25: =ROUND(J25*F25,2) -> 1921.5 | N25: =ROUND(M25/G25,4) -> 22.5 | O25: =G25-M25 -> -1836.1
A26: =PLAN!#REF! -> #REF! | C26: =PLAN!#REF! -> #REF! | D26: =PLAN!#REF! -> #REF! | E26: =PLAN!#REF! -> #REF! | F26: =PLAN!#REF! -> #REF! | G26: =ROUND(E26*F26,2) -> #REF! | I26: 16875 | J26: =I26+H26 -> 16875 | K26: =E26-J26 -> #REF! | L26: =ROUND(I26*F26,2) -> #REF! | M26: =ROUND(J26*F26,2) -> #REF! | N26: =ROUND(M26/G26,4) -> #REF! | O26: =G26-M26 -> #REF!
A27: =PLAN!#REF! -> #REF! | C27: =PLAN!#REF! -> #REF! | D27: =PLAN!#REF! -> #REF!
A28: =PLAN!#REF! -> #REF! | C28: =PLAN!#REF! -> #REF! | D28: =PLAN!#REF! -> #REF! | E28: =PLAN!#REF! -> #REF! | F28: =PLAN!#REF! -> #REF! | G28: =ROUND(E28*F28,2) -> #REF! | I28: 200 | J28: =I28+H28 -> 200 | K28: =E28-J28 -> #REF! | L28: =ROUND(I28*F28,2) -> #REF! | M28: =ROUND(J28*F28,2) -> #REF! | N28: =ROUND(M28/G28,4) -> #REF! | O28: =G28-M28 -> #REF!
A29: =PLAN!#REF! -> #REF! | C29: =PLAN!#REF! -> #REF! | D29: =PLAN!#REF! -> #REF! | E29: =PLAN!#REF! -> #REF! | F29: =PLAN!#REF! -> #REF! | G29: =ROUND(E29*F29,2) -> #REF! | I29: 200 | J29: =I29+H29 -> 200 | K29: =E29-J29 -> #REF! | L29: =ROUND(I29*F29,2) -> #REF! | M29: =ROUND(J29*F29,2) -> #REF! | N29: =ROUND(M29/G29,4) -> #REF! | O29: =G29-M29 -> #REF!
A30: =PLAN!A70 -> 4.4 | C30: =PLAN!C70 -> DRENAGEM PLUVIAL | D30: =PLAN!D70 -> 0
A31: =PLAN!A74 -> 4.4.4 | C31: =PLAN!C74 -> ESCAVAÇÃO MECÂNICA DE VALAS COM PROFUNDIDADE MENOR OU IGUAL A 1,5M, INCLUSIVE CARGA EM CAMINHÃO, EXCLUSIVE TRANSPORTE E DESCARGA | D31: =PLAN!D74 -> M3 | E31: =PLAN!E74 -> 203.72 | F31: =PLAN!G74 -> 14.52 | G31: =ROUND(E31*F31,2) -> 2958.01 | I31: 8 | J31: =I31+H31 -> 8 | K31: =E31-J31 -> 195.72 | L31: =ROUND(I31*F31,2) -> 116.16 | M31: =ROUND(J31*F31,2) -> 116.16 | N31: =ROUND(M31/G31,4) -> 0.0393 | O31: =G31-M31 -> 2841.85
A32: =PLAN!#REF! -> #REF! | C32: =PLAN!#REF! -> #REF! | D32: =PLAN!#REF! -> #REF! | E32: =PLAN!#REF! -> #REF! | F32: =PLAN!#REF! -> #REF! | G32: =ROUND(E32*F32,2) -> #REF! | I32: 16 | J32: =I32+H32 -> 16 | K32: =E32-J32 -> #REF! | L32: =ROUND(I32*F32,2) -> #REF! | M32: =ROUND(J32*F32,2) -> #REF! | N32: =ROUND(M32/G32,4) -> #REF! | O32: =G32-M32 -> #REF!
A33: =PLAN!A76 -> 4.4.6 | C33: =PLAN!C76 -> APILOAMENTO DO FUNDO DE VALAS COM PLACA VIBRATÓRIA | D33: =PLAN!D76 -> M2 | E33: =PLAN!E76 -> 142.82 | F33: =PLAN!G76 -> 19.3 | G33: =ROUND(E33*F33,2) -> 2756.43 | I33: 41.6 | J33: =I33+H33 -> 41.6 | K33: =E33-J33 -> 101.22 | L33: =ROUND(I33*F33,2) -> 802.88 | M33: =ROUND(J33*F33,2) -> 802.88 | N33: =ROUND(M33/G33,4) -> 0.2913 | O33: =G33-M33 -> 1953.55
A34: =PLAN!A80 -> 4.4.10 | C34: =PLAN!C80 -> TUBO DE CONCRETO ARMADO, CLASSE PA1, DIÂMETRO DE 800MM, INCLUSIVE CARGA E DESCARGA MECÂNICA EM CAMINHÃO, ASSENTAMENTO E REJUNTAMENTO, EXCLUSIVE ESCAVAÇÃO E TRANSPORTE | D34: =PLAN!D80 -> M | E34: =PLAN!E80 -> 77 | F34: =PLAN!G80 -> 523.26 | G34: =ROUND(E34*F34,2) -> 40291.02 | I34: 32 | J34: =I34+H34 -> 32 | K34: =E34-J34 -> 45 | L34: =ROUND(I34*F34,2) -> 16744.32 | M34: =ROUND(J34*F34,2) -> 16744.32 | N34: =ROUND(M34/G34,4) -> 0.4156 | O34: =G34-M34 -> 23546.7
A35: =PLAN!A81 -> 4.4.11 | C35: =PLAN!C81 -> REATERRO COMPACTADO DE VALA COM EQUIPAMENTO PLACA VIBRATÓRIA | D35: =PLAN!D81 -> M3 | E35: =PLAN!E81 -> 148.76 | F35: =PLAN!G81 -> 63.96 | G35: =ROUND(E35*F35,2) -> 9514.69 | I35: 58.16 | J35: =I35+H35 -> 58.16 | K35: =E35-J35 -> 90.6 | L35: =ROUND(I35*F35,2) -> 3719.91 | M35: =ROUND(J35*F35,2) -> 3719.91 | N35: =ROUND(M35/G35,4) -> 0.391 | O35: =G35-M35 -> 5794.78
A36: =PLAN!A83 -> 4.4.13 | C36: =PLAN!C83 -> Boca de Lobo Simples combinada com grelha, quadro e cantoneira pré moldados de concreto BLS 01 areia e brita comerciais (Execução, incluindo escavação, fornecimento, carga e transporte de todos os materiais) (Caderno de Drenagem RT 01.47.d) | D36: =PLAN!D83 -> UNID | E36: =PLAN!E83 -> 8 | F36: =PLAN!G83 -> 1655.66 | G36: =ROUND(E36*F36,2) -> 13245.28 | I36: 8 | J36: =I36+H36 -> 8 | K36: =E36-J36 -> 0 | L36: =ROUND(I36*F36,2) -> 13245.28 | M36: =ROUND(J36*F36,2) -> 13245.28 | N36: =ROUND(M36/G36,4) -> 1 | O36: =G36-M36 -> 0
A37: =PLAN!#REF! -> #REF! | C37: =PLAN!#REF! -> #REF! | D37: =PLAN!#REF! -> #REF!
A38: =PLAN!#REF! -> #REF! | C38: =PLAN!#REF! -> #REF! | D38: =PLAN!#REF! -> #REF! | E38: =PLAN!#REF! -> #REF! | F38: =PLAN!#REF! -> #REF! | G38: =ROUND(E38*F38,2) -> #REF! | I38: 3.52 | J38: =I38+H38 -> 3.52 | K38: =E38-J38 -> #REF! | L38: =ROUND(I38*F38,2) -> #REF! | M38: =ROUND(J38*F38,2) -> #REF! | N38: =ROUND(M38/G38,4) -> #REF! | O38: =G38-M38 -> #REF!
A39: =PLAN!#REF! -> #REF! | C39: =PLAN!#REF! -> #REF! | D39: =PLAN!#REF! -> #REF! | E39: =PLAN!#REF! -> #REF! | F39: =PLAN!#REF! -> #REF! | G39: =ROUND(E39*F39,2) -> #REF! | I39: 21 | J39: =I39+H39 -> 21 | K39: =E39-J39 -> #REF! | L39: =ROUND(I39*F39,2) -> #REF! | M39: =ROUND(J39*F39,2) -> #REF! | N39: =ROUND(M39/G39,4) -> #REF! | O39: =G39-M39 -> #REF!
A40: =PLAN!#REF! -> #REF! | C40: =PLAN!#REF! -> #REF! | D40: =PLAN!#REF! -> #REF! | E40: =PLAN!#REF! -> #REF! | F40: =PLAN!#REF! -> #REF! | G40: =ROUND(E40*F40,2) -> #REF! | I40: 5.12 | J40: =I40+H40 -> 5.12 | K40: =E40-J40 -> #REF! | L40: =ROUND(I40*F40,2) -> #REF! | M40: =ROUND(J40*F40,2) -> #REF! | N40: =ROUND(M40/G40,4) -> #REF! | O40: =G40-M40 -> #REF!
A41: =PLAN!#REF! -> #REF! | C41: =PLAN!#REF! -> #REF! | D41: =PLAN!#REF! -> #REF!
...

Sheet BM 01-Fot
A2: RELATÓRIO FOTOGRÁFICO DA MEDIÇÃO
A3: ='BM 01'!A3 -> EMPRESA: | B3: ='BM 01'!C3 -> CONSTRUTORA SANCARLOS LTDA | K3: ='BM 01'!M2 -> BOLETIM n°: | L3: ='BM 01'!O2 -> 01
A4: ='BM 01'!A4 -> OBRA: SERVIÇOS DE INFRAESTRUTURA | K4: ='BM 01'!M3 -> DATA INICIAL: | L4: {='BM 01'!N3:O3} -> ordem de serviço | M4: 0
